Workbook

Sheet 作成依頼票
D2: レディーミクストコンクリート配合計画書作成依頼書 | Y2: ver.8.2c | AB2: 作成する時に「配合10頁」の次にある「※注意事項」のワークシートの内容を読んでください！
A3: 大阪広域生コンクリート協同組合
A4: 【作成依頼票】 | W4: 1 | Y4: =IF($W$4<MAX(配合1頁!$L$8,配合2頁!$L$8,配合3頁!$L$8,配合4頁!$L$8,配合5頁!$L$8,配合6頁!$L$8,配合7頁!$L$8,配合8頁!$L$8,配合9頁!$L$8,配合10頁!$L$8),MAX(配合1頁!$L$8,配合2頁!$L$8,配合3頁!$L$8,配合4頁!$L$8,配合5頁!$L$8,配合6頁!$L$8,配合7頁!$L$8,配合8頁!$L$8,配合9頁!$L$8,配合10頁!$L$8),"") -> 4
A5: 作 成 依 頼 日 | P5: 西暦 | R5: 2025 | U5: 年 | X5: 月 | Z5: 日 | AB5: 新 規 | AE5: 2019
A6: 発行の区分 | F6: 新 規 | P6: 表紙の有無 | T6: 有 | AB6: 追 加 | AE6: 2020
A7: 契番 ＜スポット＞ | AB7: 再発行 | AE7: 2021
A8: 窓口販売店 | F8: 佐賀商事 株式会社 | AE8: 2022
A9: デリバリー社 | AE9: 2023
A10: 担 当 者 名 | F10: 蓮実 | AB10: 有 | AE10: 2024
A11: Ｔ Ｅ Ｌ | F11: 078-913-1044 | P11: F A X | S11: 078-911-6462 | AB11: 無 | AE11: 2025
A12: 携 帯 電 話 | F12: 080-1427-0093
A13: 計画書の日付 | F13: 西暦 | H13: 2025 | K13: 年 | M13: 月 | O13: 日 | P13: 付 | Q13: 提出部数 | T13: 3 | Y13: 部 | AB13: 西暦
A14: 希望提出期限 | F14: 西暦 | H14: 2025 | K14: 年 | M14: 月 | O14: 日 | P14: 迄 | Q14: 提出方法 | T14: 郵送 | AB14: 平成
A15: 提 出 先 住 所 | F15: 〒 | G15: 651-2126 | Q15: 提 出 先 | T15: 窓口販売店 | AB15: 令和
F16: 神戸市西区玉津町上池255-1
A18: メールアドレス | T18: ※メール提出が必要な場合に記入 | AB18: 郵送
F19: hasumi＠imarikenzai.jp | AB19: 窓口販売店回収
A20: 納入工場名 | AB20: デリバリー社回収
AB21: メール添付(PDF)
AB22: 現場へ持参
A24: 工 事 の 内 容 | B24: 監督官庁名
B25: 設計事務所名
B26: 施工業者名
B27: 現場責任者名 | P27: ㊞ | AB27: 現場事務所
B28: Ｔ Ｅ Ｌ | P28: F A X | AB28: 窓口販売店
B29: 工事名称 | AB29: デリバリー社
AB30: 施工業者
AB31: メールアドレス宛
B32: 現場所在地
A35: 大 阪 広 域 生 コ ン ク リ ー ト 協 同 組 合
A36: ブロック | D36: 中央 | F36: 北 | H36: 西 | J36: 東部 | L36: 阪南 | N36: 南 | O36: ◎ | P36: 神戸 | R36: 淡路 | T36: 北摂 | V36: 北神 | X36: 播磨 | Z36: 兵西 | AB36: ◎
A37: 担当者印 | B37: 業 務 部 | O37: 技 術 部
A39: 備 考 | B39: 地図･特記仕様書等のクラウド登録 : | O39: 受付印
AD40: 9630

Sheet 配合1頁
C1: レディーミクストコンクリート配合計画書作成依頼書
L2: =作成依頼票!$Y$2 -> ver.8.2c
A3: 大阪広域生コンクリート協同組合 | O3: 作成する時に「配合10頁」の次にある「※注意事項」のワークシートの内容を読んでください！
J4: 技 術 部 担 当 者
A6: 1 | D6: =IF(作成依頼票!$F$6="","",作成依頼票!$F$6) -> 新 規 | E6: ＞
A7: 作 成 依 頼 日 | D7: =IF(作成依頼票!$R$5="","",作成依頼票!$R$5) -> 2025 | E7: =IF(作成依頼票!$V$5="","",作成依頼票!$V$5) | F7: =IF(作成依頼票!$Y$5="","",作成依頼票!$Y$5)
A8: 配合計画書日付 | D8: =IF(作成依頼票!$H$13="","",作成依頼票!$H$13) -> 2025 | E8: =IF(作成依頼票!$L$13="","",作成依頼票!L$13) | F8: =IF(作成依頼票!$N$13="","",作成依頼票!$N$13) | L8: 2 | M8: =IF($L$8<=MAX(作成依頼票!$Y$4),MAX(作成依頼票!$Y$4),"") -> 4
A9: 工 事 名 称 | D9: =IF(作成依頼票!$F$29="","",作成依頼票!$F$29)
A11: 配 合 の 内 容 | F11: 1 | I11: =IF($F11="","",IF(H22="","",F11+1)) -> 2 | L11: =IF($F11="","",IF(K22="","",I11+1)) -> 3
A12: 確認事項 | B12: ① | C12: 納入予定時期
B13: ② | C13: 本配合の適用期間 | E13: 通期 | H13: 通期 | K13: 通期 | O13: 通期 | P13: 標準期 | Q13: 夏期 | R13: 冬期
B14: ③ | C14: コンクリートの打込み箇所
B19: ④ | C19: 設計基準強度FC | O19: 耐久設計基準強度 [18] | P19: [24] | Q19: [30] | R19: [36]
B20: ⑤ | C20: 計画供用期間の級 | O20: 一般（短期） | P20: 標準 | Q20: 長期 | R20: 超長期
B21: ⑥ | C21: 構造体強度補正値Ｓ | O21: 3 | P21: 6
A22: 呼び方 | B22: コンクリートの種類 | E22: 普通 | H22: 普通 | K22: 普通 | O22: 普通 | P22: 舗装 | Q22: 軽量 | R22: 高強度 | S22: MCON (単独) | T22: MCON (共同) | U22: 1 DAY PAVE | V22: モルタル | W22: セメントミルク | X22: －
B23: 呼び強度1) | O23: 18 | P23: 21 | Q23: 24 | R23: 27 | S23: 30 | T23: 33 | U23: 36 | V23: 39 | W23: 40 | X23: 42 | Y23: 45 | Z23: 曲4.5 | AA23: -
B24: スランプ又はスランプフロー（cm) | O24: 3 | P24: 5 | Q24: 8 | R24: 10 | S24: 12 | T24: 15 | U24: 18 | V24: 21 | W24: 23 | X24: 40 | Y24: 45 | Z24: 50 | AA24: 55 | AB24: 60 | AC24: 2.5 | AD24: 6.5
B25: 粗骨材の最大寸法(mm) | O25: 15 (豆砂利) | P25: 15 | Q25: 20 | R25: 40 | S25: 軽量15
B26: セメントの種類 | O26: N | P26: BB | Q26: H | R26: L | S26: M
B27: 化学混和剤の種類 | O27: AE減水剤(標準･遅延) | P27: 高性能AE(標準･遅延) | Q27: AE減水剤(標準形指定) | R27: 高性能AE(標準形指定) | S27: AE減水剤(遅延形指定) | T27: 高性能AE(遅延形指定) | U27: AE減水剤(収縮低減) | V27: 高性能AE(収縮低減)
A28: 協議・指定事項 | B28: 単位容積質量（軽量コンのみ） | G28: =IF($E28<>"","t/㎥","") | J28: =IF($H28<>"","t/㎥","") | M28: =IF($K28<>"","t/㎥","") | O28: 1.95 | P28: 1.85 | Q28: 1.75 | R28: 1.65
B29: 流動化後のスランプ増大量 | O29: 8→10 ㎝ | P29: 8→12 ㎝ | Q29: 10→12 ㎝ | R29: 10→15 ㎝ | S29: 12→15 ㎝ | T29: 12→18 ㎝ | U29: 15→18 ㎝ | V29: 15→21 ㎝ | W29: 18→21 ㎝ | X29: 18→23 ㎝ | Y29: 21→23 ㎝
B30: 混和材料 ･膨張材 ･フライアッシュ ･防水材 など | D30: 種類 | O30: 膨張材外割 | P30: 膨張材内割 | Q30: フライアッシュ外割 | R30: フライアッシュ内割 | S30: 高炉スラグ微粉末外割 | T30: 高炉スラグ微粉末内割 | U30: シリカフューム外割 | V30: シリカフューム内割 | W30: 石粉外割 | X30: 石粉内割 | Y30: 防水材外割 | Z30: 防水材内割 | AA30: 防せい剤
D31: 品名 | O31: ﾊｲﾊﾟｰｴｸｽﾊﾟﾝ-K | P31: ﾊｲﾊﾟｰｴｸｽﾊﾟﾝ-M | Q31: エクスパン | R31: パワーCSA-S | S31: パワーCSA-R | T31: CSA | U31: ｽｰﾊﾟｰｻｸｽ-S | V31: ｽｰﾊﾟｰｻｸｽ-R | W31: ベストン | X31: 太平洋NN-P | Y31: 関電ﾌﾗｲｱｯｼｭ
D32: 使用量 | G32: kg/㎥ | J32: kg/㎥ | M32: kg/㎥ | O32: kg/㎥ | P32: ％
D33: 種類 | O33: C×
D34: 品名
D35: 使用量 | E35: C× | G35: ％ | H35: C× | J35: ％ | K35: C× | M35: ％
G36: =IF(E36<>"",IF($B36=$O$36,"日",IF($B36=$O$38,"kg/㎥",IF($B36=$O$39,"kg/㎥",IF($B36=$O$37,"％",IF($B36=$O$40,"％",""))))),"") | J36: =IF(H36<>"",IF($B36=$O$36,"日",IF($B36=$O$38,"kg/㎥",IF($B36=$O$39,"kg/㎥",IF($B36=$O$37,"％",IF($B36=$O$40,"％",""))))),"") | M36: =IF(K36<>"",IF($B36=$O$36,"日",IF($B36=$O$38,"kg/㎥",IF($B36=$O$39,"kg/㎥",IF($B36=$O$37,"％",IF($B36=$O$40,"％",""))))),"") | O36: 呼び強度を保証する材齢 | P36: 日
G37: =IF(E37<>"",IF($B37=$O$36,"日",IF($B37=$O$38,"kg/㎥",IF($B37=$O$39,"kg/㎥",IF($B37=$O$37,"％",IF($B37=$O$40,"％",""))))),"") | J37: =IF(H37<>"",IF($B37=$O$36,"日",IF($B37=$O$38,"kg/㎥",IF($B37=$O$39,"kg/㎥",IF($B37=$O$37,"％",IF($B37=$O$40,"％",""))))),"") | M37: =IF(K37<>"",IF($B37=$O$36,"日",IF($B37=$O$38,"kg/㎥",IF($B37=$O$39,"kg/㎥",IF($B37=$O$37,"％",IF($B37=$O$40,"％",""))))),"") | O37: 水セメント比の目標値の上限 2) | P37: kg/㎥
G38: =IF(E38<>"",IF($B38=$O$36,"日",IF($B38=$O$38,"kg/㎥",IF($B38=$O$39,"kg/㎥",IF($B38=$O$37,"％",IF($B38=$O$40,"％",""))))),"") | J38: =IF(H38<>"",IF($B38=$O$36,"日",IF($B38=$O$38,"kg/㎥",IF($B38=$O$39,"kg/㎥",IF($B38=$O$37,"％",IF($B38=$O$40,"％",""))))),"") | M38: =IF(K38<>"",IF($B38=$O$36,"日",IF($B38=$O$38,"kg/㎥",IF($B38=$O$39,"kg/㎥",IF($B38=$O$37,"％",IF($B38=$O$40,"％",""))))),"") | O38: 単位水量の目標値の上限 2) | P38: kg
G39: =IF(E39<>"",IF($B39=$O$36,"日",IF($B39=$O$38,"kg/㎥",IF($B39=$O$39,"kg/㎥",IF($B39=$O$37,"％",IF($B39=$O$40,"％",""))))),"") | J39: =IF(H39<>"",IF($B39=$O$36,"日",IF($B39=$O$38,"kg/㎥",IF($B39=$O$39,"kg/㎥",IF($B39=$O$37,"％",IF($B39=$O$40,"％",""))))),"") | M39: =IF(K39<>"",IF($B39=$O$36,"日",IF($B39=$O$38,"kg/㎥",IF($B39=$O$39,"kg/㎥",IF($B39=$O$37,"％",IF($B39=$O$40,"％",""))))),"") | O39: 単位セメント量の最小値 | P39: ㎝
O40: 指定空気量 | P40: ％
O42: 環境マークの表示 | Q42: 新規契約から可 | R42: 現在納入から可 | T42: 不要
A43: 検 査 | O43: 試し練り | P43: 有
O44: 単位水量検査 | P44: 無
A46: 備 考
A50: 1）ＭＣＯＮの呼び強度欄への記入方法（共同認定はW/C、単独認定は「-」とし設計基準強度欄を記入）
A51: 2）配合設計で計画した目標値

Sheet 配合2頁
C1: レディーミクストコンクリート配合計画書作成依頼書
L2: =作成依頼票!$Y$2 -> ver.8.2c
A3: 大阪広域生コンクリート協同組合
J4: 技 術 部 担 当 者
A6: =配合1頁!$A$6+1 -> 2 | D6: =IF(作成依頼票!$F$6="","",作成依頼票!$F$6) -> 新 規 | E6: ＞
A7: 作 成 依 頼 日 | D7: =IF(作成依頼票!$R$5="","",作成依頼票!$R$5) -> 2025 | E7: =IF(作成依頼票!$V$5="","",作成依頼票!$V$5) | F7: =IF(作成依頼票!$Y$5="","",作成依頼票!$Y$5)
A8: 配合計画書日付 | D8: =IF(作成依頼票!$H$13="","",作成依頼票!$H$13) -> 2025 | E8: =IF(作成依頼票!$L$13="","",作成依頼票!L$13) | F8: =IF(作成依頼票!$N$13="","",作成依頼票!$N$13) | L8: =IF($F$11="","",配合1頁!$L$8+1) -> 3 | M8: =IF($L$8<=MAX(作成依頼票!$Y$4),MAX(作成依頼票!$Y$4),"") -> 4
A9: 工 事 名 称 | D9: =IF(作成依頼票!$F$29="","",作成依頼票!$F$29)
A11: 配 合 の 内 容 | F11: =IF(配合1頁!$L$11="","",IF($E$22="","",配合1頁!$L$11+1)) -> 4 | I11: =IF($F11="","",IF(H22="","",F11+1)) -> 5 | L11: =IF($F11="","",IF(K22="","",I11+1)) -> 6
A12: 確認事項 | B12: ① | C12: 納入予定時期
B13: ② | C13: 本配合の適用期間 | E13: 通期 | H13: 通期 | K13: 通期 | O13: 通期 | P13: 標準期 | Q13: 夏期 | R13: 冬期
B14: ③ | C14: コンクリートの打込み箇所
B19: ④ | C19: 設計基準強度FC | O19: 耐久設計基準強度 [18] | P19: [24] | Q19: [30] | R19: [36]
B20: ⑤ | C20: 計画供用期間の級 | O20: 一般（短期） | P20: 標準 | Q20: 長期 | R20: 超長期
B21: ⑥ | C21: 構造体強度補正値Ｓ | O21: 3 | P21: 6
A22: 呼び方 | B22: コンクリートの種類 | E22: 普通 | H22: 普通 | K22: 普通 | O22: 普通 | P22: 舗装 | Q22: 軽量 | R22: 高強度 | S22: MCON (単独) | T22: MCON (共同) | U22: 1 DAY PAVE | V22: モルタル | W22: セメントミルク | X22: －
B23: 呼び強度1) | O23: 18 | P23: 21 | Q23: 24 | R23: 27 | S23: 30 | T23: 33 | U23: 36 | V23: 39 | W23: 40 | X23: 42 | Y23: 45 | Z23: 曲4.5 | AA23: -
B24: スランプ又はスランプフロー（cm) | O24: 3 | P24: 5 | Q24: 8 | R24: 10 | S24: 12 | T24: 15 | U24: 18 | V24: 21 | W24: 23 | X24: 40 | Y24: 45 | Z24: 50 | AA24: 55 | AB24: 60 | AC24: 2.5 | AD24: 6.5
B25: 粗骨材の最大寸法(mm) | O25: 15 (豆砂利) | P25: 15 | Q25: 20 | R25: 40 | S25: 軽量15
B26: セメントの種類 | O26: N | P26: BB | Q26: H | R26: L | S26: M
B27: 化学混和剤の種類 | O27: AE減水剤(標準･遅延) | P27: 高性能AE(標準･遅延) | Q27: AE減水剤(標準形指定) | R27: 高性能AE(標準形指定) | S27: AE減水剤(遅延形指定) | T27: 高性能AE(遅延形指定) | U27: AE減水剤(収縮低減) | V27: 高性能AE(収縮低減)
A28: 協議・指定事項 | B28: 単位容積質量（軽量コンのみ） | G28: =IF($E28<>"","t/㎥","") | J28: =IF($H28<>"","t/㎥","") | M28: =IF($K28<>"","t/㎥","") | O28: 1.95 | P28: 1.85 | Q28: 1.75 | R28: 1.65
B29: 流動化後のスランプ増大量 | O29: 8→10 ㎝ | P29: 8→12 ㎝ | Q29: 10→12 ㎝ | R29: 10→15 ㎝ | S29: 12→15 ㎝ | T29: 12→18 ㎝ | U29: 15→18 ㎝ | V29: 15→21 ㎝ | W29: 18→21 ㎝ | X29: 18→23 ㎝ | Y29: 21→23 ㎝
B30: 混和材料 ･膨張材 ･フライアッシュ ･防水材 など | D30: 種類 | O30: 膨張材外割 | P30: 膨張材内割 | Q30: フライアッシュ外割 | R30: フライアッシュ内割 | S30: 高炉スラグ微粉末外割 | T30: 高炉スラグ微粉末内割 | U30: シリカフューム外割 | V30: シリカフューム内割 | W30: 石粉外割 | X30: 石粉内割 | Y30: 防水材内割 | Z30: 防水材外割 | AA30: 防せい剤
D31: 品名 | O31: ﾊｲﾊﾟｰｴｸｽﾊﾟﾝ-K | P31: ﾊｲﾊﾟｰｴｸｽﾊﾟﾝ-M | Q31: エクスパン | R31: パワーCSA-S | S31: パワーCSA-R | T31: CSA | U31: ｽｰﾊﾟｰｻｸｽ-S | V31: ｽｰﾊﾟｰｻｸｽ-R | W31: ベストン | X31: 太平洋NN-P | Y31: 関電ﾌﾗｲｱｯｼｭ
D32: 使用量 | G32: kg/㎥ | J32: kg/㎥ | M32: kg/㎥ | O32: kg/㎥ | P32: ％
D33: 種類 | O33: C×
D34: 品名
D35: 使用量 | E35: C× | G35: ％ | H35: C× | J35: ％ | K35: C× | M35: ％
G36: =IF(E36<>"",IF($B36=$O$36,"日",IF($B36=$O$38,"kg/㎥",IF($B36=$O$39,"kg/㎥",IF($B36=$O$37,"％",IF($B36=$O$40,"％",""))))),"") | J36: =IF(H36<>"",IF($B36=$O$36,"日",IF($B36=$O$38,"kg/㎥",IF($B36=$O$39,"kg/㎥",IF($B36=$O$37,"％",IF($B36=$O$40,"％",""))))),"") | M36: =IF(K36<>"",IF($B36=$O$36,"日",IF($B36=$O$38,"kg/㎥",IF($B36=$O$39,"kg/㎥",IF($B36=$O$37,"％",IF($B36=$O$40,"％",""))))),"") | O36: 呼び強度を保証する材齢 | P36: 日
G37: =IF(E37<>"",IF($B37=$O$36,"日",IF($B37=$O$38,"kg/㎥",IF($B37=$O$39,"kg/㎥",IF($B37=$O$37,"％",IF($B37=$O$40,"％",""))))),"") | J37: =IF(H37<>"",IF($B37=$O$36,"日",IF($B37=$O$38,"kg/㎥",IF($B37=$O$39,"kg/㎥",IF($B37=$O$37,"％",IF($B37=$O$40,"％",""))))),"") | M37: =IF(K37<>"",IF($B37=$O$36,"日",IF($B37=$O$38,"kg/㎥",IF($B37=$O$39,"kg/㎥",IF($B37=$O$37,"％",IF($B37=$O$40,"％",""))))),"") | O37: 水セメント比の目標値の上限 2) | P37: kg/㎥
G38: =IF(E38<>"",IF($B38=$O$36,"日",IF($B38=$O$38,"kg/㎥",IF($B38=$O$39,"kg/㎥",IF($B38=$O$37,"％",IF($B38=$O$40,"％",""))))),"") | J38: =IF(H38<>"",IF($B38=$O$36,"日",IF($B38=$O$38,"kg/㎥",IF($B38=$O$39,"kg/㎥",IF($B38=$O$37,"％",IF($B38=$O$40,"％",""))))),"") | M38: =IF(K38<>"",IF($B38=$O$36,"日",IF($B38=$O$38,"kg/㎥",IF($B38=$O$39,"kg/㎥",IF($B38=$O$37,"％",IF($B38=$O$40,"％",""))))),"") | O38: 単位水量の目標値の上限 2) | P38: kg
G39: =IF(E39<>"",IF($B39=$O$36,"日",IF($B39=$O$38,"kg/㎥",IF($B39=$O$39,"kg/㎥",IF($B39=$O$37,"％",IF($B39=$O$40,"％",""))))),"") | J39: =IF(H39<>"",IF($B39=$O$36,"日",IF($B39=$O$38,"kg/㎥",IF($B39=$O$39,"kg/㎥",IF($B39=$O$37,"％",IF($B39=$O$40,"％",""))))),"") | M39: =IF(K39<>"",IF($B39=$O$36,"日",IF($B39=$O$38,"kg/㎥",IF($B39=$O$39,"kg/㎥",IF($B39=$O$37,"％",IF($B39=$O$40,"％",""))))),"") | O39: 単位セメント量の最小値 | P39: ㎝
O40: 指定空気量 | P40: ％
O42: 環境マークの表示 | Q42: 新規契約から可 | R42: 現在納入から可 | T42: 不要
A43: 検 査 | O43: 試し練り | P43: 有
O44: 単位水量検査 | P44: 無
A46: 備 考
A50: 1）ＭＣＯＮの呼び強度欄への記入方法（共同認定はW/C、単独認定は「-」とし設計基準強度欄を記入）
A51: 2）配合設計で計画した目標値

Sheet 配合3頁
C1: レディーミクストコンクリート配合計画書作成依頼書
L2: =作成依頼票!$Y$2 -> ver.8.2c
A3: 大阪広域生コンクリート協同組合
J4: 技 術 部 担 当 者
A6: =配合2頁!$A$6+1 -> 3 | D6: =IF(作成依頼票!$F$6="","",作成依頼票!$F$6) -> 新 規 | E6: ＞
A7: 作 成 依 頼 日 | D7: =IF(作成依頼票!$R$5="","",作成依頼票!$R$5) -> 2025 | E7: =IF(作成依頼票!$V$5="","",作成依頼票!$V$5) | F7: =IF(作成依頼票!$Y$5="","",作成依頼票!$Y$5)
A8: 配合計画書日付 | D8: =IF(作成依頼票!$H$13="","",作成依頼票!$H$13) -> 2025 | E8: =IF(作成依頼票!$L$13="","",作成依頼票!L$13) | F8: =IF(作成依頼票!$N$13="","",作成依頼票!$N$13) | L8: =IF($F$11="","",配合2頁!$L$8+1) -> 4 | M8: =IF($L$8<=MAX(作成依頼票!$Y$4),MAX(作成依頼票!$Y$4),"") -> 4
A9: 工 事 名 称 | D9: =IF(作成依頼票!$F$29="","",作成依頼票!$F$29)
A11: 配 合 の 内 容 | F11: =IF(配合2頁!$L$11="","",IF($E$22="","",配合2頁!$L$11+1)) -> 7 | I11: =IF($F11="","",IF(H22="","",F11+1)) -> 8 | L11: =IF($I11="","",IF(K22="","",I11+1))
A12: 確認事項 | B12: ① | C12: 納入予定時期
B13: ② | C13: 本配合の適用期間 | E13: 通期 | H13: 通期 | K13: 通期 | O13: 通期 | P13: 標準期 | Q13: 夏期 | R13: 冬期
B14: ③ | C14: コンクリートの打込み箇所
B19: ④ | C19: 設計基準強度FC | O19: 耐久設計基準強度 [18] | P19: [24] | Q19: [30] | R19: [36]
B20: ⑤ | C20: 計画供用期間の級 | O20: 一般（短期） | P20: 標準 | Q20: 長期 | R20: 超長期
B21: ⑥ | C21: 構造体強度補正値Ｓ | O21: 3 | P21: 6
A22: 呼び方 | B22: コンクリートの種類 | E22: 普通 | H22: 普通 | O22: 普通 | P22: 舗装 | Q22: 軽量 | R22: 高強度 | S22: MCON (単独) | T22: MCON (共同) | U22: 1 DAY PAVE | V22: モルタル | W22: セメントミルク | X22: －
B23: 呼び強度1) | O23: 18 | P23: 21 | Q23: 24 | R23: 27 | S23: 30 | T23: 33 | U23: 36 | V23: 39 | W23: 40 | X23: 42 | Y23: 45 | Z23: 曲4.5 | AA23: -
B24: スランプ又はスランプフロー（cm) | O24: 3 | P24: 5 | Q24: 8 | R24: 10 | S24: 12 | T24: 15 | U24: 18 | V24: 21 | W24: 23 | X24: 40 | Y24: 45 | Z24: 50 | AA24: 55 | AB24: 60 | AC24: 2.5 | AD24: 6.5
B25: 粗骨材の最大寸法(mm) | O25: 15 (豆砂利) | P25: 15 | Q25: 20 | R25: 40 | S25: 軽量15
B26: セメントの種類 | O26: N | P26: BB | Q26: H | R26: L | S26: M
B27: 化学混和剤の種類 | O27: AE減水剤(標準･遅延) | P27: 高性能AE(標準･遅延) | Q27: AE減水剤(標準形指定) | R27: 高性能AE(標準形指定) | S27: AE減水剤(遅延形指定) | T27: 高性能AE(遅延形指定) | U27: AE減水剤(収縮低減) | V27: 高性能AE(収縮低減)
A28: 協議・指定事項 | B28: 単位容積質量（軽量コンのみ） | G28: =IF($E28<>"","t/㎥","") | J28: =IF($H28<>"","t/㎥","") | M28: =IF($K28<>"","t/㎥","") | O28: 1.95 | P28: 1.85 | Q28: 1.75 | R28: 1.65
B29: 流動化後のスランプ増大量 | O29: 8→10 ㎝ | P29: 8→12 ㎝ | Q29: 10→12 ㎝ | R29: 10→15 ㎝ | S29: 12→15 ㎝ | T29: 12→18 ㎝ | U29: 15→18 ㎝ | V29: 15→21 ㎝ | W29: 18→21 ㎝ | X29: 18→23 ㎝ | Y29: 21→23 ㎝
B30: 混和材料 ･膨張材 ･フライアッシュ ･防水材 など | D30: 種類 | O30: 膨張材外割 | P30: 膨張材内割 | Q30: フライアッシュ外割 | R30: フライアッシュ内割 | S30: 高炉スラグ微粉末外割 | T30: 高炉スラグ微粉末内割 | U30: シリカフューム外割 | V30: シリカフューム内割 | W30: 石粉外割 | X30: 石粉内割 | Y30: 防水材内割 | Z30: 防水材外割 | AA30: 防せい剤
D31: 品名 | O31: ﾊｲﾊﾟｰｴｸｽﾊﾟﾝ-K | P31: ﾊｲﾊﾟｰｴｸｽﾊﾟﾝ-M | Q31: エクスパン | R31: パワーCSA-S | S31: パワーCSA-R | T31: CSA | U31: ｽｰﾊﾟｰｻｸｽ-S | V31: ｽｰﾊﾟｰｻｸｽ-R | W31: ベストン | X31: 太平洋NN-P | Y31: 関電ﾌﾗｲｱｯｼｭ
D32: 使用量 | G32: kg/㎥ | J32: kg/㎥ | M32: kg/㎥ | O32: kg/㎥ | P32: ％
D33: 種類 | O33: C×
D34: 品名
D35: 使用量 | E35: C× | G35: ％ | H35: C× | J35: ％ | K35: C× | M35: ％
G36: =IF(E36<>"",IF($B36=$O$36,"日",IF($B36=$O$38,"kg/㎥",IF($B36=$O$39,"kg/㎥",IF($B36=$O$37,"％",IF($B36=$O$40,"％",""))))),"") | J36: =IF(H36<>"",IF($B36=$O$36,"日",IF($B36=$O$38,"kg/㎥",IF($B36=$O$39,"kg/㎥",IF($B36=$O$37,"％",IF($B36=$O$40,"％",""))))),"") | M36: =IF(K36<>"",IF($B36=$O$36,"日",IF($B36=$O$38,"kg/㎥",IF($B36=$O$39,"kg/㎥",IF($B36=$O$37,"％",IF($B36=$O$40,"％",""))))),"") | O36: 呼び強度を保証する材齢 | P36: 日
G37: =IF(E37<>"",IF($B37=$O$36,"日",IF($B37=$O$38,"kg/㎥",IF($B37=$O$39,"kg/㎥",IF($B37=$O$37,"％",IF($B37=$O$40,"％",""))))),"") | J37: =IF(H37<>"",IF($B37=$O$36,"日",IF($B37=$O$38,"kg/㎥",IF($B37=$O$39,"kg/㎥",IF($B37=$O$37,"％",IF($B37=$O$40,"％",""))))),"") | M37: =IF(K37<>"",IF($B37=$O$36,"日",IF($B37=$O$38,"kg/㎥",IF($B37=$O$39,"kg/㎥",IF($B37=$O$37,"％",IF($B37=$O$40,"％",""))))),"") | O37: 水セメント比の目標値の上限 2) | P37: kg/㎥
G38: =IF(E38<>"",IF($B38=$O$36,"日",IF($B38=$O$38,"kg/㎥",IF($B38=$O$39,"kg/㎥",IF($B38=$O$37,"％",IF($B38=$O$40,"％",""))))),"") | J38: =IF(H38<>"",IF($B38=$O$36,"日",IF($B38=$O$38,"kg/㎥",IF($B38=$O$39,"kg/㎥",IF($B38=$O$37,"％",IF($B38=$O$40,"％",""))))),"") | M38: =IF(K38<>"",IF($B38=$O$36,"日",IF($B38=$O$38,"kg/㎥",IF($B38=$O$39,"kg/㎥",IF($B38=$O$37,"％",IF($B38=$O$40,"％",""))))),"") | O38: 単位水量の目標値の上限 2) | P38: kg
G39: =IF(E39<>"",IF($B39=$O$36,"日",IF($B39=$O$38,"kg/㎥",IF($B39=$O$39,"kg/㎥",IF($B39=$O$37,"％",IF($B39=$O$40,"％",""))))),"") | J39: =IF(H39<>"",IF($B39=$O$36,"日",IF($B39=$O$38,"kg/㎥",IF($B39=$O$39,"kg/㎥",IF($B39=$O$37,"％",IF($B39=$O$40,"％",""))))),"") | M39: =IF(K39<>"",IF($B39=$O$36,"日",IF($B39=$O$38,"kg/㎥",IF($B39=$O$39,"kg/㎥",IF($B39=$O$37,"％",IF($B39=$O$40,"％",""))))),"") | O39: 単位セメント量の最小値 | P39: ㎝
O40: 指定空気量 | P40: ％
O42: 環境マークの表示 | Q42: 新規契約から可 | R42: 現在納入から可 | T42: 不要
A43: 検 査 | O43: 試し練り | P43: 有
O44: 単位水量検査 | P44: 無
A46: 備 考
A50: 1）ＭＣＯＮの呼び強度欄への記入方法（共同認定はW/C、単独認定は「-」とし設計基準強度欄を記入）
A51: 2）配合設計で計画した目標値

Sheet 配合4頁
C1: レディーミクストコンクリート配合計画書作成依頼書
L2: =作成依頼票!$Y$2 -> ver.8.2c
A3: 大阪広域生コンクリート協同組合
J4: 技 術 部 担 当 者
A6: =配合3頁!$A$6+1 -> 4 | D6: =IF(作成依頼票!$F$6="","",作成依頼票!$F$6) -> 新 規 | E6: ＞
A7: 作 成 依 頼 日 | D7: =IF(作成依頼票!$R$5="","",作成依頼票!$R$5) -> 2025 | E7: =IF(作成依頼票!$V$5="","",作成依頼票!$V$5) | F7: =IF(作成依頼票!$Y$5="","",作成依頼票!$Y$5)
A8: 配合計画書日付 | D8: =IF(作成依頼票!$H$13="","",作成依頼票!$H$13) -> 2025 | E8: =IF(作成依頼票!$L$13="","",作成依頼票!L$13) | F8: =IF(作成依頼票!$N$13="","",作成依頼票!$N$13) | L8: =IF($F$11="","",配合3頁!$L$8+1) | M8: =IF($L$8<=MAX(作成依頼票!$Y$4),MAX(作成依頼票!$Y$4),"")
A9: 工 事 名 称 | D9: =IF(作成依頼票!$F$29="","",作成依頼票!$F$29)
A11: 配 合 の 内 容 | F11: =IF(配合3頁!$L$11="","",IF($E$22="","",配合3頁!$L$11+1)) | I11: =IF($F11="","",IF(H22="","",F11+1)) | L11: =IF($I11="","",IF(K22="","",I11+1))
A12: 確認事項 | B12: ① | C12: 納入予定時期
B13: ② | C13: 本配合の適用期間 | E13: 通期 | H13: 通期 | K13: 通期 | O13: 通期 | P13: 標準期 | Q13: 夏期 | R13: 冬期
B14: ③ | C14: コンクリートの打込み箇所
B19: ④ | C19: 設計基準強度FC | O19: 耐久設計基準強度 [18] | P19: [24] | Q19: [30] | R19: [36]
B20: ⑤ | C20: 計画供用期間の級 | O20: 一般（短期） | P20: 標準 | Q20: 長期 | R20: 超長期
B21: ⑥ | C21: 構造体強度補正値Ｓ | O21: 3 | P21: 6
A22: 呼び方 | B22: コンクリートの種類 | O22: 普通 | P22: 舗装 | Q22: 軽量 | R22: 高強度 | S22: MCON (単独) | T22: MCON (共同) | U22: 1 DAY PAVE | V22: モルタル | W22: セメントミルク | X22: －
B23: 呼び強度1) | O23: 18 | P23: 21 | Q23: 24 | R23: 27 | S23: 30 | T23: 33 | U23: 36 | V23: 39 | W23: 40 | X23: 42 | Y23: 45 | Z23: 曲4.5 | AA23: -
B24: スランプ又はスランプフロー（cm) | O24: 3 | P24: 5 | Q24: 8 | R24: 10 | S24: 12 | T24: 15 | U24: 18 | V24: 21 | W24: 23 | X24: 40 | Y24: 45 | Z24: 50 | AA24: 55 | AB24: 60 | AC24: 2.5 | AD24: 6.5
B25: 粗骨材の最大寸法(mm) | O25: 15 (豆砂利) | P25: 15 | Q25: 20 | R25: 40 | S25: 軽量15
B26: セメントの種類 | O26: N | P26: BB | Q26: H | R26: L | S26: M
B27: 化学混和剤の種類 | O27: AE減水剤(標準･遅延) | P27: 高性能AE(標準･遅延) | Q27: AE減水剤(標準形指定) | R27: 高性能AE(標準形指定) | S27: AE減水剤(遅延形指定) | T27: 高性能AE(遅延形指定) | U27: AE減水剤(収縮低減) | V27: 高性能AE(収縮低減)
A28: 協議・指定事項 | B28: 単位容積質量（軽量コンのみ） | G28: =IF($E28<>"","t/㎥","") | J28: =IF($H28<>"","t/㎥","") | M28: =IF($K28<>"","t/㎥","") | O28: 1.95 | P28: 1.85 | Q28: 1.75 | R28: 1.65
B29: 流動化後のスランプ増大量 | O29: 8→10 ㎝ | P29: 8→12 ㎝ | Q29: 10→12 ㎝ | R29: 10→15 ㎝ | S29: 12→15 ㎝ | T29: 12→18 ㎝ | U29: 15→18 ㎝ | V29: 15→21 ㎝ | W29: 18→21 ㎝ | X29: 18→23 ㎝ | Y29: 21→23 ㎝
B30: 混和材料 ･膨張材 ･フライアッシュ ･防水材 など | D30: 種類 | O30: 膨張材外割 | P30: 膨張材内割 | Q30: フライアッシュ外割 | R30: フライアッシュ内割 | S30: 高炉スラグ微粉末外割 | T30: 高炉スラグ微粉末内割 | U30: シリカフューム外割 | V30: シリカフューム内割 | W30: 石粉外割 | X30: 石粉内割 | Y30: 防水材内割 | Z30: 防水材外割 | AA30: 防せい剤
D31: 品名 | O31: ﾊｲﾊﾟｰｴｸｽﾊﾟﾝ-K | P31: ﾊｲﾊﾟｰｴｸｽﾊﾟﾝ-M | Q31: エクスパン | R31: パワーCSA-S | S31: パワーCSA-R | T31: CSA | U31: ｽｰﾊﾟｰｻｸｽ-S | V31: ｽｰﾊﾟｰｻｸｽ-R | W31: ベストン | X31: 太平洋NN-P | Y31: 関電ﾌﾗｲｱｯｼｭ
D32: 使用量 | G32: kg/㎥ | J32: kg/㎥ | M32: kg/㎥ | O32: kg/㎥ | P32: ％
D33: 種類 | O33: C×
D34: 品名
D35: 使用量 | E35: C× | G35: ％ | H35: C× | J35: ％ | K35: C× | M35: ％
G36: =IF(E36<>"",IF($B36=$O$36,"日",IF($B36=$O$38,"kg/㎥",IF($B36=$O$39,"kg/㎥",IF($B36=$O$37,"％",IF($B36=$O$40,"％",""))))),"") | J36: =IF(H36<>"",IF($B36=$O$36,"日",IF($B36=$O$38,"kg/㎥",IF($B36=$O$39,"kg/㎥",IF($B36=$O$37,"％",IF($B36=$O$40,"％",""))))),"") | M36: =IF(K36<>"",IF($B36=$O$36,"日",IF($B36=$O$38,"kg/㎥",IF($B36=$O$39,"kg/㎥",IF($B36=$O$37,"％",IF($B36=$O$40,"％",""))))),"") | O36: 呼び強度を保証する材齢 | P36: 日
G37: =IF(E37<>"",IF($B37=$O$36,"日",IF($B37=$O$38,"kg/㎥",IF($B37=$O$39,"kg/㎥",IF($B37=$O$37,"％",IF($B37=$O$40,"％",""))))),"") | J37: =IF(H37<>"",IF($B37=$O$36,"日",IF($B37=$O$38,"kg/㎥",IF($B37=$O$39,"kg/㎥",IF($B37=$O$37,"％",IF($B37=$O$40,"％",""))))),"") | M37: =IF(K37<>"",IF($B37=$O$36,"日",IF($B37=$O$38,"kg/㎥",IF($B37=$O$39,"kg/㎥",IF($B37=$O$37,"％",IF($B37=$O$40,"％",""))))),"") | O37: 水セメント比の目標値の上限 2) | P37: kg/㎥
G38: =IF(E38<>"",IF($B38=$O$36,"日",IF($B38=$O$38,"kg/㎥",IF($B38=$O$39,"kg/㎥",IF($B38=$O$37,"％",IF($B38=$O$40,"％",""))))),"") | J38: =IF(H38<>"",IF($B38=$O$36,"日",IF($B38=$O$38,"kg/㎥",IF($B38=$O$39,"kg/㎥",IF($B38=$O$37,"％",IF($B38=$O$40,"％",""))))),"") | M38: =IF(K38<>"",IF($B38=$O$36,"日",IF($B38=$O$38,"kg/㎥",IF($B38=$O$39,"kg/㎥",IF($B38=$O$37,"％",IF($B38=$O$40,"％",""))))),"") | O38: 単位水量の目標値の上限 2) | P38: kg
G39: =IF(E39<>"",IF($B39=$O$36,"日",IF($B39=$O$38,"kg/㎥",IF($B39=$O$39,"kg/㎥",IF($B39=$O$37,"％",IF($B39=$O$40,"％",""))))),"") | J39: =IF(H39<>"",IF($B39=$O$36,"日",IF($B39=$O$38,"kg/㎥",IF($B39=$O$39,"kg/㎥",IF($B39=$O$37,"％",IF($B39=$O$40,"％",""))))),"") | M39: =IF(K39<>"",IF($B39=$O$36,"日",IF($B39=$O$38,"kg/㎥",IF($B39=$O$39,"kg/㎥",IF($B39=$O$37,"％",IF($B39=$O$40,"％",""))))),"") | O39: 単位セメント量の最小値 | P39: ㎝
O40: 指定空気量 | P40: ％
O42: 環境マークの表示 | Q42: 新規契約から可 | R42: 現在納入から可 | T42: 不要
A43: 検 査 | O43: 試し練り | P43: 有
O44: 単位水量検査 | P44: 無
A46: 備 考
A50: 1）ＭＣＯＮの呼び強度欄への記入方法（共同認定はW/C、単独認定は「-」とし設計基準強度欄を記入）
A51: 2）配合設計で計画した目標値

Sheet 配合5頁
C1: レディーミクストコンクリート配合計画書作成依頼書
L2: =作成依頼票!$Y$2 -> ver.8.2c
A3: 大阪広域生コンクリート協同組合
J4: 技 術 部 担 当 者
A6: =配合4頁!$A$6+1 -> 5 | D6: =IF(作成依頼票!$F$6="","",作成依頼票!$F$6) -> 新 規 | E6: ＞
A7: 作 成 依 頼 日 | D7: =IF(作成依頼票!$R$5="","",作成依頼票!$R$5) -> 2025 | E7: =IF(作成依頼票!$V$5="","",作成依頼票!$V$5) | F7: =IF(作成依頼票!$Y$5="","",作成依頼票!$Y$5)
A8: 配合計画書日付 | D8: =IF(作成依頼票!$H$13="","",作成依頼票!$H$13) -> 2025 | E8: =IF(作成依頼票!$L$13="","",作成依頼票!L$13) | F8: =IF(作成依頼票!$N$13="","",作成依頼票!$N$13) | L8: =IF($F$11="","",配合4頁!$L$8+1) | M8: =IF($L$8<=MAX(作成依頼票!$Y$4),MAX(作成依頼票!$Y$4),"")
A9: 工 事 名 称 | D9: =IF(作成依頼票!$F$29="","",作成依頼票!$F$29)
A11: 配 合 の 内 容 | F11: =IF(配合4頁!$L$11="","",IF($E$22="","",配合4頁!$L$11+1)) | I11: =IF($F11="","",IF(H22="","",F11+1)) | L11: =IF($I11="","",IF(K22="","",I11+1))
A12: 確認事項 | B12: ① | C12: 納入予定時期
B13: ② | C13: 本配合の適用期間 | E13: 通期 | H13: 通期 | K13: 通期 | O13: 通期 | P13: 標準期 | Q13: 夏期 | R13: 冬期
B14: ③ | C14: コンクリートの打込み箇所
B19: ④ | C19: 設計基準強度FC | O19: 耐久設計基準強度 [18] | P19: [24] | Q19: [30] | R19: [36]
B20: ⑤ | C20: 計画供用期間の級 | O20: 一般（短期） | P20: 標準 | Q20: 長期 | R20: 超長期
B21: ⑥ | C21: 構造体強度補正値Ｓ | O21: 3 | P21: 6
A22: 呼び方 | B22: コンクリートの種類 | O22: 普通 | P22: 舗装 | Q22: 軽量 | R22: 高強度 | S22: MCON (単独) | T22: MCON (共同) | U22: 1 DAY PAVE | V22: モルタル | W22: セメントミルク | X22: －
B23: 呼び強度1) | O23: 18 | P23: 21 | Q23: 24 | R23: 27 | S23: 30 | T23: 33 | U23: 36 | V23: 39 | W23: 40 | X23: 42 | Y23: 45 | Z23: 曲4.5 | AA23: -
B24: スランプ又はスランプフロー（cm) | O24: 3 | P24: 5 | Q24: 8 | R24: 10 | S24: 12 | T24: 15 | U24: 18 | V24: 21 | W24: 23 | X24: 40 | Y24: 45 | Z24: 50 | AA24: 55 | AB24: 60 | AC24: 2.5 | AD24: 6.5
B25: 粗骨材の最大寸法(mm) | O25: 15 (豆砂利) | P25: 15 | Q25: 20 | R25: 40 | S25: 軽量15
B26: セメントの種類 | O26: N | P26: BB | Q26: H | R26: L | S26: M
B27: 化学混和剤の種類 | O27: AE減水剤(標準･遅延) | P27: 高性能AE(標準･遅延) | Q27: AE減水剤(標準形指定) | R27: 高性能AE(標準形指定) | S27: AE減水剤(遅延形指定) | T27: 高性能AE(遅延形指定) | U27: AE減水剤(収縮低減) | V27: 高性能AE(収縮低減)
A28: 協議・指定事項 | B28: 単位容積質量（軽量コンのみ） | G28: =IF($E28<>"","t/㎥","") | J28: =IF($H28<>"","t/㎥","") | M28: =IF($K28<>"","t/㎥","") | O28: 1.95 | P28: 1.85 | Q28: 1.75 | R28: 1.65
B29: 流動化後のスランプ増大量 | O29: 8→10 ㎝ | P29: 8→12 ㎝ | Q29: 10→12 ㎝ | R29: 10→15 ㎝ | S29: 12→15 ㎝ | T29: 12→18 ㎝ | U29: 15→18 ㎝ | V29: 15→21 ㎝ | W29: 18→21 ㎝ | X29: 18→23 ㎝ | Y29: 21→23 ㎝
B30: 混和材料 ･膨張材 ･フライアッシュ ･防水材 など | D30: 種類 | O30: 膨張材外割 | P30: 膨張材内割 | Q30: フライアッシュ外割 | R30: フライアッシュ内割 | S30: 高炉スラグ微粉末外割 | T30: 高炉スラグ微粉末内割 | U30: シリカフューム外割 | V30: シリカフューム内割 | W30: 石粉外割 | X30: 石粉内割 | Y30: 防水材内割 | Z30: 防水材外割 | AA30: 防せい剤
D31: 品名 | O31: ﾊｲﾊﾟｰｴｸｽﾊﾟﾝ-K | P31: ﾊｲﾊﾟｰｴｸｽﾊﾟﾝ-M | Q31: エクスパン | R31: パワーCSA-S | S31: パワーCSA-R | T31: CSA | U31: ｽｰﾊﾟｰｻｸｽ-S | V31: ｽｰﾊﾟｰｻｸｽ-R | W31: ベストン | X31: 太平洋NN-P | Y31: 関電ﾌﾗｲｱｯｼｭ
D32: 使用量 | G32: kg/㎥ | J32: kg/㎥ | M32: kg/㎥ | O32: kg/㎥ | P32: ％
D33: 種類 | O33: C×
D34: 品名
D35: 使用量 | E35: C× | G35: ％ | H35: C× | J35: ％ | K35: C× | M35: ％
G36: =IF(E36<>"",IF($B36=$O$36,"日",IF($B36=$O$38,"kg/㎥",IF($B36=$O$39,"kg/㎥",IF($B36=$O$37,"％",IF($B36=$O$40,"％",""))))),"") | J36: =IF(H36<>"",IF($B36=$O$36,"日",IF($B36=$O$38,"kg/㎥",IF($B36=$O$39,"kg/㎥",IF($B36=$O$37,"％",IF($B36=$O$40,"％",""))))),"") | M36: =IF(K36<>"",IF($B36=$O$36,"日",IF($B36=$O$38,"kg/㎥",IF($B36=$O$39,"kg/㎥",IF($B36=$O$37,"％",IF($B36=$O$40,"％",""))))),"") | O36: 呼び強度を保証する材齢 | P36: 日
G37: =IF(E37<>"",IF($B37=$O$36,"日",IF($B37=$O$38,"kg/㎥",IF($B37=$O$39,"kg/㎥",IF($B37=$O$37,"％",IF($B37=$O$40,"％",""))))),"") | J37: =IF(H37<>"",IF($B37=$O$36,"日",IF($B37=$O$38,"kg/㎥",IF($B37=$O$39,"kg/㎥",IF($B37=$O$37,"％",IF($B37=$O$40,"％",""))))),"") | M37: =IF(K37<>"",IF($B37=$O$36,"日",IF($B37=$O$38,"kg/㎥",IF($B37=$O$39,"kg/㎥",IF($B37=$O$37,"％",IF($B37=$O$40,"％",""))))),"") | O37: 水セメント比の目標値の上限 2) | P37: kg/㎥
G38: =IF(E38<>"",IF($B38=$O$36,"日",IF($B38=$O$38,"kg/㎥",IF($B38=$O$39,"kg/㎥",IF($B38=$O$37,"％",IF($B38=$O$40,"％",""))))),"") | J38: =IF(H38<>"",IF($B38=$O$36,"日",IF($B38=$O$38,"kg/㎥",IF($B38=$O$39,"kg/㎥",IF($B38=$O$37,"％",IF($B38=$O$40,"％",""))))),"") | M38: =IF(K38<>"",IF($B38=$O$36,"日",IF($B38=$O$38,"kg/㎥",IF($B38=$O$39,"kg/㎥",IF($B38=$O$37,"％",IF($B38=$O$40,"％",""))))),"") | O38: 単位水量の目標値の上限 2) | P38: kg
G39: =IF(E39<>"",IF($B39=$O$36,"日",IF($B39=$O$38,"kg/㎥",IF($B39=$O$39,"kg/㎥",IF($B39=$O$37,"％",IF($B39=$O$40,"％",""))))),"") | J39: =IF(H39<>"",IF($B39=$O$36,"日",IF($B39=$O$38,"kg/㎥",IF($B39=$O$39,"kg/㎥",IF($B39=$O$37,"％",IF($B39=$O$40,"％",""))))),"") | M39: =IF(K39<>"",IF($B39=$O$36,"日",IF($B39=$O$38,"kg/㎥",IF($B39=$O$39,"kg/㎥",IF($B39=$O$37,"％",IF($B39=$O$40,"％",""))))),"") | O39: 単位セメント量の最小値 | P39: ㎝
O40: 指定空気量 | P40: ％
O42: 環境マークの表示 | Q42: 新規契約から可 | R42: 現在納入から可 | T42: 不要
A43: 検 査 | O43: 試し練り | P43: 有
O44: 単位水量検査 | P44: 無
A46: 備 考
A50: 1）ＭＣＯＮの呼び強度欄への記入方法（共同認定はW/C、単独認定は「-」とし設計基準強度欄を記入）
A51: 2）配合設計で計画した目標値

Sheet 配合6頁
C1: レディーミクストコンクリート配合計画書作成依頼書
L2: =作成依頼票!$Y$2 -> ver.8.2c
A3: 大阪広域生コンクリート協同組合
J4: 技 術 部 担 当 者
A6: =配合5頁!$A$6+1 -> 6 | D6: =IF(作成依頼票!$F$6="","",作成依頼票!$F$6) -> 新 規 | E6: ＞
A7: 作 成 依 頼 日 | D7: =IF(作成依頼票!$R$5="","",作成依頼票!$R$5) -> 2025 | E7: =IF(作成依頼票!$V$5="","",作成依頼票!$V$5) | F7: =IF(作成依頼票!$Y$5="","",作成依頼票!$Y$5)
A8: 配合計画書日付 | D8: =IF(作成依頼票!$H$13="","",作成依頼票!$H$13) -> 2025 | E8: =IF(作成依頼票!$L$13="","",作成依頼票!L$13) | F8: =IF(作成依頼票!$N$13="","",作成依頼票!$N$13) | L8: =IF($F$11="","",配合5頁!$L$8+1) | M8: =IF($L$8<=MAX(作成依頼票!$Y$4),MAX(作成依頼票!$Y$4),"")
A9: 工 事 名 称 | D9: =IF(作成依頼票!$F$29="","",作成依頼票!$F$29)
A11: 配 合 の 内 容 | F11: =IF(配合5頁!$L$11="","",IF($E$22="","",配合5頁!$L$11+1)) | I11: =IF($F11="","",IF(H22="","",F11+1)) | L11: =IF($I11="","",IF(K22="","",I11+1))
A12: 確認事項 | B12: ① | C12: 納入予定時期
B13: ② | C13: 本配合の適用期間 | E13: 通期 | H13: 通期 | K13: 通期 | O13: 通期 | P13: 標準期 | Q13: 夏期 | R13: 冬期
B14: ③ | C14: コンクリートの打込み箇所
B19: ④ | C19: 設計基準強度FC | O19: 耐久設計基準強度 [18] | P19: [24] | Q19: [30] | R19: [36]
B20: ⑤ | C20: 計画供用期間の級 | O20: 一般（短期） | P20: 標準 | Q20: 長期 | R20: 超長期
B21: ⑥ | C21: 構造体強度補正値Ｓ | O21: 3 | P21: 6
A22: 呼び方 | B22: コンクリートの種類 | O22: 普通 | P22: 舗装 | Q22: 軽量 | R22: 高強度 | S22: MCON (単独) | T22: MCON (共同) | U22: 1 DAY PAVE | V22: モルタル | W22: セメントミルク | X22: －
B23: 呼び強度1) | O23: 18 | P23: 21 | Q23: 24 | R23: 27 | S23: 30 | T23: 33 | U23: 36 | V23: 39 | W23: 40 | X23: 42 | Y23: 45 | Z23: 曲4.5 | AA23: -
B24: スランプ又はスランプフロー（cm) | O24: 3 | P24: 5 | Q24: 8 | R24: 10 | S24: 12 | T24: 15 | U24: 18 | V24: 21 | W24: 23 | X24: 40 | Y24: 45 | Z24: 50 | AA24: 55 | AB24: 60 | AC24: 2.5 | AD24: 6.5
B25: 粗骨材の最大寸法(mm) | O25: 15 (豆砂利) | P25: 15 | Q25: 20 | R25: 40 | S25: 軽量15
B26: セメントの種類 | O26: N | P26: BB | Q26: H | R26: L | S26: M
B27: 化学混和剤の種類 | O27: AE減水剤(標準･遅延) | P27: 高性能AE(標準･遅延) | Q27: AE減水剤(標準形指定) | R27: 高性能AE(標準形指定) | S27: AE減水剤(遅延形指定) | T27: 高性能AE(遅延形指定) | U27: AE減水剤(収縮低減) | V27: 高性能AE(収縮低減)
A28: 協議・指定事項 | B28: 単位容積質量（軽量コンのみ） | G28: =IF($E28<>"","t/㎥","") | J28: =IF($H28<>"","t/㎥","") | M28: =IF($K28<>"","t/㎥","") | O28: 1.95 | P28: 1.85 | Q28: 1.75 | R28: 1.65
B29: 流動化後のスランプ増大量 | O29: 8→10 ㎝ | P29: 8→12 ㎝ | Q29: 10→12 ㎝ | R29: 10→15 ㎝ | S29: 12→15 ㎝ | T29: 12→18 ㎝ | U29: 15→18 ㎝ | V29: 15→21 ㎝ | W29: 18→21 ㎝ | X29: 18→23 ㎝ | Y29: 21→23 ㎝
B30: 混和材料 ･膨張材 ･フライアッシュ ･防水材 など | D30: 種類 | O30: 膨張材外割 | P30: 膨張材内割 | Q30: フライアッシュ外割 | R30: フライアッシュ内割 | S30: 高炉スラグ微粉末外割 | T30: 高炉スラグ微粉末内割 | U30: シリカフューム外割 | V30: シリカフューム内割 | W30: 石粉外割 | X30: 石粉内割 | Y30: 防水材内割 | Z30: 防水材外割 | AA30: 防せい剤
D31: 品名 | O31: ﾊｲﾊﾟｰｴｸｽﾊﾟﾝ-K | P31: ﾊｲﾊﾟｰｴｸｽﾊﾟﾝ-M | Q31: エクスパン | R31: パワーCSA-S | S31: パワーCSA-R | T31: CSA | U31: ｽｰﾊﾟｰｻｸｽ-S | V31: ｽｰﾊﾟｰｻｸｽ-R | W31: ベストン | X31: 太平洋NN-P | Y31: 関電ﾌﾗｲｱｯｼｭ
D32: 使用量 | G32: kg/㎥ | J32: kg/㎥ | M32: kg/㎥ | O32: kg/㎥ | P32: ％
D33: 種類 | O33: C×
D34: 品名
D35: 使用量 | E35: C× | G35: ％ | H35: C× | J35: ％ | K35: C× | M35: ％
G36: =IF(E36<>"",IF($B36=$O$36,"日",IF($B36=$O$38,"kg/㎥",IF($B36=$O$39,"kg/㎥",IF($B36=$O$37,"％",IF($B36=$O$40,"％",""))))),"") | J36: =IF(H36<>"",IF($B36=$O$36,"日",IF($B36=$O$38,"kg/㎥",IF($B36=$O$39,"kg/㎥",IF($B36=$O$37,"％",IF($B36=$O$40,"％",""))))),"") | M36: =IF(K36<>"",IF($B36=$O$36,"日",IF($B36=$O$38,"kg/㎥",IF($B36=$O$39,"kg/㎥",IF($B36=$O$37,"％",IF($B36=$O$40,"％",""))))),"") | O36: 呼び強度を保証する材齢 | P36: 日
G37: =IF(E37<>"",IF($B37=$O$36,"日",IF($B37=$O$38,"kg/㎥",IF($B37=$O$39,"kg/㎥",IF($B37=$O$37,"％",IF($B37=$O$40,"％",""))))),"") | J37: =IF(H37<>"",IF($B37=$O$36,"日",IF($B37=$O$38,"kg/㎥",IF($B37=$O$39,"kg/㎥",IF($B37=$O$37,"％",IF($B37=$O$40,"％",""))))),"") | M37: =IF(K37<>"",IF($B37=$O$36,"日",IF($B37=$O$38,"kg/㎥",IF($B37=$O$39,"kg/㎥",IF($B37=$O$37,"％",IF($B37=$O$40,"％",""))))),"") | O37: 水セメント比の目標値の上限 2) | P37: kg/㎥
G38: =IF(E38<>"",IF($B38=$O$36,"日",IF($B38=$O$38,"kg/㎥",IF($B38=$O$39,"kg/㎥",IF($B38=$O$37,"％",IF($B38=$O$40,"％",""))))),"") | J38: =IF(H38<>"",IF($B38=$O$36,"日",IF($B38=$O$38,"kg/㎥",IF($B38=$O$39,"kg/㎥",IF($B38=$O$37,"％",IF($B38=$O$40,"％",""))))),"") | M38: =IF(K38<>"",IF($B38=$O$36,"日",IF($B38=$O$38,"kg/㎥",IF($B38=$O$39,"kg/㎥",IF($B38=$O$37,"％",IF($B38=$O$40,"％",""))))),"") | O38: 単位水量の目標値の上限 2) | P38: kg
G39: =IF(E39<>"",IF($B39=$O$36,"日",IF($B39=$O$38,"kg/㎥",IF($B39=$O$39,"kg/㎥",IF($B39=$O$37,"％",IF($B39=$O$40,"％",""))))),"") | J39: =IF(H39<>"",IF($B39=$O$36,"日",IF($B39=$O$38,"kg/㎥",IF($B39=$O$39,"kg/㎥",IF($B39=$O$37,"％",IF($B39=$O$40,"％",""))))),"") | M39: =IF(K39<>"",IF($B39=$O$36,"日",IF($B39=$O$38,"kg/㎥",IF($B39=$O$39,"kg/㎥",IF($B39=$O$37,"％",IF($B39=$O$40,"％",""))))),"") | O39: 単位セメント量の最小値 | P39: ㎝
O40: 指定空気量 | P40: ％
O42: 環境マークの表示 | Q42: 新規契約から可 | R42: 現在納入から可 | T42: 不要
A43: 検 査 | O43: 試し練り | P43: 有
O44: 単位水量検査 | P44: 無
A46: 備 考
A50: 1）ＭＣＯＮの呼び強度欄への記入方法（共同認定はW/C、単独認定は「-」とし設計基準強度欄を記入）
A51: 2）配合設計で計画した目標値

Sheet 配合7頁
C1: レディーミクストコンクリート配合計画書作成依頼書
L2: =作成依頼票!$Y$2 -> ver.8.2c
A3: 大阪広域生コンクリート協同組合
J4: 技 術 部 担 当 者
A6: =配合6頁!$A$6+1 -> 7 | D6: =IF(作成依頼票!$F$6="","",作成依頼票!$F$6) -> 新 規 | E6: ＞
A7: 作 成 依 頼 日 | D7: =IF(作成依頼票!$R$5="","",作成依頼票!$R$5) -> 2025 | E7: =IF(作成依頼票!$V$5="","",作成依頼票!$V$5) | F7: =IF(作成依頼票!$Y$5="","",作成依頼票!$Y$5)
A8: 配合計画書日付 | D8: =IF(作成依頼票!$H$13="","",作成依頼票!$H$13) -> 2025 | E8: =IF(作成依頼票!$L$13="","",作成依頼票!L$13) | F8: =IF(作成依頼票!$N$13="","",作成依頼票!$N$13) | L8: =IF($F$11="","",配合6頁!$L$8+1) | M8: =IF($L$8<=MAX(作成依頼票!$Y$4),MAX(作成依頼票!$Y$4),"")
A9: 工 事 名 称 | D9: =IF(作成依頼票!$F$29="","",作成依頼票!$F$29)
A11: 配 合 の 内 容 | F11: =IF(配合6頁!$L$11="","",IF($E$22="","",配合6頁!$L$11+1)) | I11: =IF($F11="","",IF(H22="","",F11+1)) | L11: =IF($I11="","",IF(K22="","",I11+1))
A12: 確認事項 | B12: ① | C12: 納入予定時期
B13: ② | C13: 本配合の適用期間 | E13: 通期 | H13: 通期 | K13: 通期 | O13: 通期 | P13: 標準期 | Q13: 夏期 | R13: 冬期
B14: ③ | C14: コンクリートの打込み箇所
B19: ④ | C19: 設計基準強度FC | O19: 耐久設計基準強度 [18] | P19: [24] | Q19: [30] | R19: [36]
B20: ⑤ | C20: 計画供用期間の級 | O20: 一般（短期） | P20: 標準 | Q20: 長期 | R20: 超長期
B21: ⑥ | C21: 構造体強度補正値Ｓ | O21: 3 | P21: 6
A22: 呼び方 | B22: コンクリートの種類 | O22: 普通 | P22: 舗装 | Q22: 軽量 | R22: 高強度 | S22: MCON (単独) | T22: MCON (共同) | U22: 1 DAY PAVE | V22: モルタル | W22: セメントミルク | X22: －
B23: 呼び強度1) | O23: 18 | P23: 21 | Q23: 24 | R23: 27 | S23: 30 | T23: 33 | U23: 36 | V23: 39 | W23: 40 | X23: 42 | Y23: 45 | Z23: 曲4.5 | AA23: -
B24: スランプ又はスランプフロー（cm) | O24: 3 | P24: 5 | Q24: 8 | R24: 10 | S24: 12 | T24: 15 | U24: 18 | V24: 21 | W24: 23 | X24: 40 | Y24: 45 | Z24: 50 | AA24: 55 | AB24: 60 | AC24: 2.5 | AD24: 6.5
B25: 粗骨材の最大寸法(mm) | O25: 15 (豆砂利) | P25: 15 | Q25: 20 | R25: 40 | S25: 軽量15
B26: セメントの種類 | O26: N | P26: BB | Q26: H | R26: L | S26: M
B27: 化学混和剤の種類 | O27: AE減水剤(標準･遅延) | P27: 高性能AE(標準･遅延) | Q27: AE減水剤(標準形指定) | R27: 高性能AE(標準形指定) | S27: AE減水剤(遅延形指定) | T27: 高性能AE(遅延形指定) | U27: AE減水剤(収縮低減) | V27: 高性能AE(収縮低減)
A28: 協議・指定事項 | B28: 単位容積質量（軽量コンのみ） | G28: =IF($E28<>"","t/㎥","") | J28: =IF($H28<>"","t/㎥","") | M28: =IF($K28<>"","t/㎥","") | O28: 1.95 | P28: 1.85 | Q28: 1.75 | R28: 1.65
B29: 流動化後のスランプ増大量 | O29: 8→10 ㎝ | P29: 8→12 ㎝ | Q29: 10→12 ㎝ | R29: 10→15 ㎝ | S29: 12→15 ㎝ | T29: 12→18 ㎝ | U29: 15→18 ㎝ | V29: 15→21 ㎝ | W29: 18→21 ㎝ | X29: 18→23 ㎝ | Y29: 21→23 ㎝
B30: 混和材料 ･膨張材 ･フライアッシュ ･防水材 など | D30: 種類 | O30: 膨張材外割 | P30: 膨張材内割 | Q30: フライアッシュ外割 | R30: フライアッシュ内割 | S30: 高炉スラグ微粉末外割 | T30: 高炉スラグ微粉末内割 | U30: シリカフューム外割 | V30: シリカフューム内割 | W30: 石粉外割 | X30: 石粉内割 | Y30: 防水材内割 | Z30: 防水材外割 | AA30: 防せい剤
D31: 品名 | O31: ﾊｲﾊﾟｰｴｸｽﾊﾟﾝ-K | P31: ﾊｲﾊﾟｰｴｸｽﾊﾟﾝ-M | Q31: エクスパン | R31: パワーCSA-S | S31: パワーCSA-R | T31: CSA | U31: ｽｰﾊﾟｰｻｸｽ-S | V31: ｽｰﾊﾟｰｻｸｽ-R | W31: ベストン | X31: 太平洋NN-P | Y31: 関電ﾌﾗｲｱｯｼｭ
D32: 使用量 | G32: kg/㎥ | J32: kg/㎥ | M32: kg/㎥ | O32: kg/㎥ | P32: ％
D33: 種類 | O33: C×
D34: 品名
D35: 使用量 | E35: C× | G35: ％ | H35: C× | J35: ％ | K35: C× | M35: ％
G36: =IF(E36<>"",IF($B36=$O$36,"日",IF($B36=$O$38,"kg/㎥",IF($B36=$O$39,"kg/㎥",IF($B36=$O$37,"％",IF($B36=$O$40,"％",""))))),"") | J36: =IF(H36<>"",IF($B36=$O$36,"日",IF($B36=$O$38,"kg/㎥",IF($B36=$O$39,"kg/㎥",IF($B36=$O$37,"％",IF($B36=$O$40,"％",""))))),"") | M36: =IF(K36<>"",IF($B36=$O$36,"日",IF($B36=$O$38,"kg/㎥",IF($B36=$O$39,"kg/㎥",IF($B36=$O$37,"％",IF($B36=$O$40,"％",""))))),"") | O36: 呼び強度を保証する材齢 | P36: 日
G37: =IF(E37<>"",IF($B37=$O$36,"日",IF($B37=$O$38,"kg/㎥",IF($B37=$O$39,"kg/㎥",IF($B37=$O$37,"％",IF($B37=$O$40,"％",""))))),"") | J37: =IF(H37<>"",IF($B37=$O$36,"日",IF($B37=$O$38,"kg/㎥",IF($B37=$O$39,"kg/㎥",IF($B37=$O$37,"％",IF($B37=$O$40,"％",""))))),"") | M37: =IF(K37<>"",IF($B37=$O$36,"日",IF($B37=$O$38,"kg/㎥",IF($B37=$O$39,"kg/㎥",IF($B37=$O$37,"％",IF($B37=$O$40,"％",""))))),"") | O37: 水セメント比の目標値の上限 2) | P37: kg/㎥
G38: =IF(E38<>"",IF($B38=$O$36,"日",IF($B38=$O$38,"kg/㎥",IF($B38=$O$39,"kg/㎥",IF($B38=$O$37,"％",IF($B38=$O$40,"％",""))))),"") | J38: =IF(H38<>"",IF($B38=$O$36,"日",IF($B38=$O$38,"kg/㎥",IF($B38=$O$39,"kg/㎥",IF($B38=$O$37,"％",IF($B38=$O$40,"％",""))))),"") | M38: =IF(K38<>"",IF($B38=$O$36,"日",IF($B38=$O$38,"kg/㎥",IF($B38=$O$39,"kg/㎥",IF($B38=$O$37,"％",IF($B38=$O$40,"％",""))))),"") | O38: 単位水量の目標値の上限 2) | P38: kg
G39: =IF(E39<>"",IF($B39=$O$36,"日",IF($B39=$O$38,"kg/㎥",IF($B39=$O$39,"kg/㎥",IF($B39=$O$37,"％",IF($B39=$O$40,"％",""))))),"") | J39: =IF(H39<>"",IF($B39=$O$36,"日",IF($B39=$O$38,"kg/㎥",IF($B39=$O$39,"kg/㎥",IF($B39=$O$37,"％",IF($B39=$O$40,"％",""))))),"") | M39: =IF(K39<>"",IF($B39=$O$36,"日",IF($B39=$O$38,"kg/㎥",IF($B39=$O$39,"kg/㎥",IF($B39=$O$37,"％",IF($B39=$O$40,"％",""))))),"") | O39: 単位セメント量の最小値 | P39: ㎝
O40: 指定空気量 | P40: ％
O42: 環境マークの表示 | Q42: 新規契約から可 | R42: 現在納入から可 | T42: 不要
A43: 検 査 | O43: 試し練り | P43: 有
O44: 単位水量検査 | P44: 無
A46: 備 考
A50: 1）ＭＣＯＮの呼び強度欄への記入方法（共同認定はW/C、単独認定は「-」とし設計基準強度欄を記入）
A51: 2）配合設計で計画した目標値

Sheet 配合8頁
C1: レディーミクストコンクリート配合計画書作成依頼書
L2: =作成依頼票!$Y$2 -> ver.8.2c
A3: 大阪広域生コンクリート協同組合
J4: 技 術 部 担 当 者
A6: =配合7頁!$A$6+1 -> 8 | D6: =IF(作成依頼票!$F$6="","",作成依頼票!$F$6) -> 新 規 | E6: ＞
A7: 作 成 依 頼 日 | D7: =IF(作成依頼票!$R$5="","",作成依頼票!$R$5) -> 2025 | E7: =IF(作成依頼票!$V$5="","",作成依頼票!$V$5) | F7: =IF(作成依頼票!$Y$5="","",作成依頼票!$Y$5)
A8: 配合計画書日付 | D8: =IF(作成依頼票!$H$13="","",作成依頼票!$H$13) -> 2025 | E8: =IF(作成依頼票!$L$13="","",作成依頼票!L$13) | F8: =IF(作成依頼票!$N$13="","",作成依頼票!$N$13) | L8: =IF($F$11="","",配合7頁!$L$8+1) | M8: =IF($L$8<=MAX(作成依頼票!$Y$4),MAX(作成依頼票!$Y$4),"")
A9: 工 事 名 称 | D9: =IF(作成依頼票!$F$29="","",作成依頼票!$F$29)
A11: 配 合 の 内 容 | F11: =IF(配合7頁!$L$11="","",IF($E$22="","",配合7頁!$L$11+1)) | I11: =IF($F11="","",IF(H22="","",F11+1)) | L11: =IF($I11="","",IF(K22="","",I11+1))
A12: 確認事項 | B12: ① | C12: 納入予定時期
B13: ② | C13: 本配合の適用期間 | E13: 通期 | H13: 通期 | K13: 通期 | O13: 通期 | P13: 標準期 | Q13: 夏期 | R13: 冬期
B14: ③ | C14: コンクリートの打込み箇所
B19: ④ | C19: 設計基準強度FC | O19: 耐久設計基準強度 [18] | P19: [24] | Q19: [30] | R19: [36]
B20: ⑤ | C20: 計画供用期間の級 | O20: 一般（短期） | P20: 標準 | Q20: 長期 | R20: 超長期
B21: ⑥ | C21: 構造体強度補正値Ｓ | O21: 3 | P21: 6
A22: 呼び方 | B22: コンクリートの種類 | O22: 普通 | P22: 舗装 | Q22: 軽量 | R22: 高強度 | S22: MCON (単独) | T22: MCON (共同) | U22: 1 DAY PAVE | V22: モルタル | W22: セメントミルク | X22: －
B23: 呼び強度1) | O23: 18 | P23: 21 | Q23: 24 | R23: 27 | S23: 30 | T23: 33 | U23: 36 | V23: 39 | W23: 40 | X23: 42 | Y23: 45 | Z23: 曲4.5 | AA23: -
B24: スランプ又はスランプフロー（cm) | O24: 3 | P24: 5 | Q24: 8 | R24: 10 | S24: 12 | T24: 15 | U24: 18 | V24: 21 | W24: 23 | X24: 40 | Y24: 45 | Z24: 50 | AA24: 55 | AB24: 60 | AC24: 2.5 | AD24: 6.5
B25: 粗骨材の最大寸法(mm) | O25: 15 (豆砂利) | P25: 15 | Q25: 20 | R25: 40 | S25: 軽量15
B26: セメントの種類 | O26: N | P26: BB | Q26: H | R26: L | S26: M
B27: 化学混和剤の種類 | O27: AE減水剤(標準･遅延) | P27: 高性能AE(標準･遅延) | Q27: AE減水剤(標準形指定) | R27: 高性能AE(標準形指定) | S27: AE減水剤(遅延形指定) | T27: 高性能AE(遅延形指定) | U27: AE減水剤(収縮低減) | V27: 高性能AE(収縮低減)
A28: 協議・指定事項 | B28: 単位容積質量（軽量コンのみ） | G28: =IF($E28<>"","t/㎥","") | J28: =IF($H28<>"","t/㎥","") | M28: =IF($K28<>"","t/㎥","") | O28: 1.95 | P28: 1.85 | Q28: 1.75 | R28: 1.65
B29: 流動化後のスランプ増大量 | O29: 8→10 ㎝ | P29: 8→12 ㎝ | Q29: 10→12 ㎝ | R29: 10→15 ㎝ | S29: 12→15 ㎝ | T29: 12→18 ㎝ | U29: 15→18 ㎝ | V29: 15→21 ㎝ | W29: 18→21 ㎝ | X29: 18→23 ㎝ | Y29: 21→23 ㎝
B30: 混和材料 ･膨張材 ･フライアッシュ ･防水材 など | D30: 種類 | O30: 膨張材外割 | P30: 膨張材内割 | Q30: フライアッシュ外割 | R30: フライアッシュ内割 | S30: 高炉スラグ微粉末外割 | T30: 高炉スラグ微粉末内割 | U30: シリカフューム外割 | V30: シリカフューム内割 | W30: 石粉外割 | X30: 石粉内割 | Y30: 防水材内割 | Z30: 防水材外割 | AA30: 防せい剤
D31: 品名 | O31: ﾊｲﾊﾟｰｴｸｽﾊﾟﾝ-K | P31: ﾊｲﾊﾟｰｴｸｽﾊﾟﾝ-M | Q31: エクスパン | R31: パワーCSA-S | S31: パワーCSA-R | T31: CSA | U31: ｽｰﾊﾟｰｻｸｽ-S | V31: ｽｰﾊﾟｰｻｸｽ-R | W31: ベストン | X31: 太平洋NN-P | Y31: 関電ﾌﾗｲｱｯｼｭ
D32: 使用量 | G32: kg/㎥ | J32: kg/㎥ | M32: kg/㎥ | O32: kg/㎥ | P32: ％
D33: 種類 | O33: C×
D34: 品名
D35: 使用量 | E35: C× | G35: ％ | H35: C× | J35: ％ | K35: C× | M35: ％
G36: =IF(E36<>"",IF($B36=$O$36,"日",IF($B36=$O$38,"kg/㎥",IF($B36=$O$39,"kg/㎥",IF($B36=$O$37,"％",IF($B36=$O$40,"％",""))))),"") | J36: =IF(H36<>"",IF($B36=$O$36,"日",IF($B36=$O$38,"kg/㎥",IF($B36=$O$39,"kg/㎥",IF($B36=$O$37,"％",IF($B36=$O$40,"％",""))))),"") | M36: =IF(K36<>"",IF($B36=$O$36,"日",IF($B36=$O$38,"kg/㎥",IF($B36=$O$39,"kg/㎥",IF($B36=$O$37,"％",IF($B36=$O$40,"％",""))))),"") | O36: 呼び強度を保証する材齢 | P36: 日
G37: =IF(E37<>"",IF($B37=$O$36,"日",IF($B37=$O$38,"kg/㎥",IF($B37=$O$39,"kg/㎥",IF($B37=$O$37,"％",IF($B37=$O$40,"％",""))))),"") | J37: =IF(H37<>"",IF($B37=$O$36,"日",IF($B37=$O$38,"kg/㎥",IF($B37=$O$39,"kg/㎥",IF($B37=$O$37,"％",IF($B37=$O$40,"％",""))))),"") | M37: =IF(K37<>"",IF($B37=$O$36,"日",IF($B37=$O$38,"kg/㎥",IF($B37=$O$39,"kg/㎥",IF($B37=$O$37,"％",IF($B37=$O$40,"％",""))))),"") | O37: 水セメント比の目標値の上限 2) | P37: kg/㎥
G38: =IF(E38<>"",IF($B38=$O$36,"日",IF($B38=$O$38,"kg/㎥",IF($B38=$O$39,"kg/㎥",IF($B38=$O$37,"％",IF($B38=$O$40,"％",""))))),"") | J38: =IF(H38<>"",IF($B38=$O$36,"日",IF($B38=$O$38,"kg/㎥",IF($B38=$O$39,"kg/㎥",IF($B38=$O$37,"％",IF($B38=$O$40,"％",""))))),"") | M38: =IF(K38<>"",IF($B38=$O$36,"日",IF($B38=$O$38,"kg/㎥",IF($B38=$O$39,"kg/㎥",IF($B38=$O$37,"％",IF($B38=$O$40,"％",""))))),"") | O38: 単位水量の目標値の上限 2) | P38: kg
G39: =IF(E39<>"",IF($B39=$O$36,"日",IF($B39=$O$38,"kg/㎥",IF($B39=$O$39,"kg/㎥",IF($B39=$O$37,"％",IF($B39=$O$40,"％",""))))),"") | J39: =IF(H39<>"",IF($B39=$O$36,"日",IF($B39=$O$38,"kg/㎥",IF($B39=$O$39,"kg/㎥",IF($B39=$O$37,"％",IF($B39=$O$40,"％",""))))),"") | M39: =IF(K39<>"",IF($B39=$O$36,"日",IF($B39=$O$38,"kg/㎥",IF($B39=$O$39,"kg/㎥",IF($B39=$O$37,"％",IF($B39=$O$40,"％",""))))),"") | O39: 単位セメント量の最小値 | P39: ㎝
O40: 指定空気量 | P40: ％
O42: 環境マークの表示 | Q42: 新規契約から可 | R42: 現在納入から可 | T42: 不要
A43: 検 査 | O43: 試し練り | P43: 有
O44: 単位水量検査 | P44: 無
A46: 備 考
A50: 1）ＭＣＯＮの呼び強度欄への記入方法（共同認定はW/C、単独認定は「-」とし設計基準強度欄を記入）
A51: 2）配合設計で計画した目標値

Sheet 配合9頁
C1: レディーミクストコンクリート配合計画書作成依頼書
L2: =作成依頼票!$Y$2 -> ver.8.2c
A3: 大阪広域生コンクリート協同組合
J4: 技 術 部 担 当 者
A6: =配合8頁!$A$6+1 -> 9 | D6: =IF(作成依頼票!$F$6="","",作成依頼票!$F$6) -> 新 規 | E6: ＞
A7: 作 成 依 頼 日 | D7: =IF(作成依頼票!$R$5="","",作成依頼票!$R$5) -> 2025 | E7: =IF(作成依頼票!$V$5="","",作成依頼票!$V$5) | F7: =IF(作成依頼票!$Y$5="","",作成依頼票!$Y$5)
A8: 配合計画書日付 | D8: =IF(作成依頼票!$H$13="","",作成依頼票!$H$13) -> 2025 | E8: =IF(作成依頼票!$L$13="","",作成依頼票!L$13) | F8: =IF(作成依頼票!$N$13="","",作成依頼票!$N$13) | L8: =IF($F$11="","",配合8頁!$L$8+1) | M8: =IF($L$8<=MAX(作成依頼票!$Y$4),MAX(作成依頼票!$Y$4),"")
A9: 工 事 名 称 | D9: =IF(作成依頼票!$F$29="","",作成依頼票!$F$29)
A11: 配 合 の 内 容 | F11: =IF(配合8頁!$L$11="","",IF($E$22="","",配合8頁!$L$11+1)) | I11: =IF($F11="","",IF(H22="","",F11+1)) | L11: =IF($I11="","",IF(K22="","",I11+1))
A12: 確認事項 | B12: ① | C12: 納入予定時期
B13: ② | C13: 本配合の適用期間 | E13: 通期 | H13: 通期 | K13: 通期 | O13: 通期 | P13: 標準期 | Q13: 夏期 | R13: 冬期
B14: ③ | C14: コンクリートの打込み箇所
B19: ④ | C19: 設計基準強度FC | O19: 耐久設計基準強度 [18] | P19: [24] | Q19: [30] | R19: [36]
B20: ⑤ | C20: 計画供用期間の級 | O20: 一般（短期） | P20: 標準 | Q20: 長期 | R20: 超長期
B21: ⑥ | C21: 構造体強度補正値Ｓ | O21: 3 | P21: 6
A22: 呼び方 | B22: コンクリートの種類 | O22: 普通 | P22: 舗装 | Q22: 軽量 | R22: 高強度 | S22: MCON (単独) | T22: MCON (共同) | U22: 1 DAY PAVE | V22: モルタル | W22: セメントミルク | X22: －
B23: 呼び強度1) | O23: 18 | P23: 21 | Q23: 24 | R23: 27 | S23: 30 | T23: 33 | U23: 36 | V23: 39 | W23: 40 | X23: 42 | Y23: 45 | Z23: 曲4.5 | AA23: -
B24: スランプ又はスランプフロー（cm) | O24: 3 | P24: 5 | Q24: 8 | R24: 10 | S24: 12 | T24: 15 | U24: 18 | V24: 21 | W24: 23 | X24: 40 | Y24: 45 | Z24: 50 | AA24: 55 | AB24: 60 | AC24: 2.5 | AD24: 6.5
B25: 粗骨材の最大寸法(mm) | O25: 15 (豆砂利) | P25: 15 | Q25: 20 | R25: 40 | S25: 軽量15
B26: セメントの種類 | O26: N | P26: BB | Q26: H | R26: L | S26: M
B27: 化学混和剤の種類 | O27: AE減水剤(標準･遅延) | P27: 高性能AE(標準･遅延) | Q27: AE減水剤(標準形指定) | R27: 高性能AE(標準形指定) | S27: AE減水剤(遅延形指定) | T27: 高性能AE(遅延形指定) | U27: AE減水剤(収縮低減) | V27: 高性能AE(収縮低減)
A28: 協議・指定事項 | B28: 単位容積質量（軽量コンのみ） | G28: =IF($E28<>"","t/㎥","") | J28: =IF($H28<>"","t/㎥","") | M28: =IF($K28<>"","t/㎥","") | O28: 1.95 | P28: 1.85 | Q28: 1.75 | R28: 1.65
B29: 流動化後のスランプ増大量 | O29: 8→10 ㎝ | P29: 8→12 ㎝ | Q29: 10→12 ㎝ | R29: 10→15 ㎝ | S29: 12→15 ㎝ | T29: 12→18 ㎝ | U29: 15→18 ㎝ | V29: 15→21 ㎝ | W29: 18→21 ㎝ | X29: 18→23 ㎝ | Y29: 21→23 ㎝
B30: 混和材料 ･膨張材 ･フライアッシュ ･防水材 など | D30: 種類 | O30: 膨張材外割 | P30: 膨張材内割 | Q30: フライアッシュ外割 | R30: フライアッシュ内割 | S30: 高炉スラグ微粉末外割 | T30: 高炉スラグ微粉末内割 | U30: シリカフューム外割 | V30: シリカフューム内割 | W30: 石粉外割 | X30: 石粉内割 | Y30: 防水材内割 | Z30: 防水材外割 | AA30: 防せい剤
D31: 品名 | O31: ﾊｲﾊﾟｰｴｸｽﾊﾟﾝ-K | P31: ﾊｲﾊﾟｰｴｸｽﾊﾟﾝ-M | Q31: エクスパン | R31: パワーCSA-S | S31: パワーCSA-R | T31: CSA | U31: ｽｰﾊﾟｰｻｸｽ-S | V31: ｽｰﾊﾟｰｻｸｽ-R | W31: ベストン | X31: 太平洋NN-P | Y31: 関電ﾌﾗｲｱｯｼｭ
D32: 使用量 | G32: kg/㎥ | J32: kg/㎥ | M32: kg/㎥ | O32: kg/㎥ | P32: ％
D33: 種類 | O33: C×
D34: 品名
D35: 使用量 | E35: C× | G35: ％ | H35: C× | J35: ％ | K35: C× | M35: ％
G36: =IF(E36<>"",IF($B36=$O$36,"日",IF($B36=$O$38,"kg/㎥",IF($B36=$O$39,"kg/㎥",IF($B36=$O$37,"％",IF($B36=$O$40,"％",""))))),"") | J36: =IF(H36<>"",IF($B36=$O$36,"日",IF($B36=$O$38,"kg/㎥",IF($B36=$O$39,"kg/㎥",IF($B36=$O$37,"％",IF($B36=$O$40,"％",""))))),"") | M36: =IF(K36<>"",IF($B36=$O$36,"日",IF($B36=$O$38,"kg/㎥",IF($B36=$O$39,"kg/㎥",IF($B36=$O$37,"％",IF($B36=$O$40,"％",""))))),"") | O36: 呼び強度を保証する材齢 | P36: 日
G37: =IF(E37<>"",IF($B37=$O$36,"日",IF($B37=$O$38,"kg/㎥",IF($B37=$O$39,"kg/㎥",IF($B37=$O$37,"％",IF($B37=$O$40,"％",""))))),"") | J37: =IF(H37<>"",IF($B37=$O$36,"日",IF($B37=$O$38,"kg/㎥",IF($B37=$O$39,"kg/㎥",IF($B37=$O$37,"％",IF($B37=$O$40,"％",""))))),"") | M37: =IF(K37<>"",IF($B37=$O$36,"日",IF($B37=$O$38,"kg/㎥",IF($B37=$O$39,"kg/㎥",IF($B37=$O$37,"％",IF($B37=$O$40,"％",""))))),"") | O37: 水セメント比の目標値の上限 2) | P37: kg/㎥
G38: =IF(E38<>"",IF($B38=$O$36,"日",IF($B38=$O$38,"kg/㎥",IF($B38=$O$39,"kg/㎥",IF($B38=$O$37,"％",IF($B38=$O$40,"％",""))))),"") | J38: =IF(H38<>"",IF($B38=$O$36,"日",IF($B38=$O$38,"kg/㎥",IF($B38=$O$39,"kg/㎥",IF($B38=$O$37,"％",IF($B38=$O$40,"％",""))))),"") | M38: =IF(K38<>"",IF($B38=$O$36,"日",IF($B38=$O$38,"kg/㎥",IF($B38=$O$39,"kg/㎥",IF($B38=$O$37,"％",IF($B38=$O$40,"％",""))))),"") | O38: 単位水量の目標値の上限 2) | P38: kg
G39: =IF(E39<>"",IF($B39=$O$36,"日",IF($B39=$O$38,"kg/㎥",IF($B39=$O$39,"kg/㎥",IF($B39=$O$37,"％",IF($B39=$O$40,"％",""))))),"") | J39: =IF(H39<>"",IF($B39=$O$36,"日",IF($B39=$O$38,"kg/㎥",IF($B39=$O$39,"kg/㎥",IF($B39=$O$37,"％",IF($B39=$O$40,"％",""))))),"") | M39: =IF(K39<>"",IF($B39=$O$36,"日",IF($B39=$O$38,"kg/㎥",IF($B39=$O$39,"kg/㎥",IF($B39=$O$37,"％",IF($B39=$O$40,"％",""))))),"") | O39: 単位セメント量の最小値 | P39: ㎝
O40: 指定空気量 | P40: ％
O42: 環境マークの表示 | Q42: 新規契約から可 | R42: 現在納入から可 | T42: 不要
A43: 検 査 | O43: 試し練り | P43: 有
O44: 単位水量検査 | P44: 無
A46: 備 考
A50: 1）ＭＣＯＮの呼び強度欄への記入方法（共同認定はW/C、単独認定は「-」とし設計基準強度欄を記入）
A51: 2）配合設計で計画した目標値

Sheet 配合10頁
C1: レディーミクストコンクリート配合計画書作成依頼書
L2: =作成依頼票!$Y$2 -> ver.8.2c
A3: 大阪広域生コンクリート協同組合
J4: 技 術 部 担 当 者
A6: =配合9頁!$A$6+1 -> 10 | D6: =IF(作成依頼票!$F$6="","",作成依頼票!$F$6) -> 新 規 | E6: ＞
A7: 作 成 依 頼 日 | D7: =IF(作成依頼票!$R$5="","",作成依頼票!$R$5) -> 2025 | E7: =IF(作成依頼票!$V$5="","",作成依頼票!$V$5) | F7: =IF(作成依頼票!$Y$5="","",作成依頼票!$Y$5)
A8: 配合計画書日付 | D8: =IF(作成依頼票!$H$13="","",作成依頼票!$H$13) -> 2025 | E8: =IF(作成依頼票!$L$13="","",作成依頼票!L$13) | F8: =IF(作成依頼票!$N$13="","",作成依頼票!$N$13) | L8: =IF($F$11="","",配合9頁!$L$8+1) | M8: =IF($L$8<=MAX(作成依頼票!$Y$4),MAX(作成依頼票!$Y$4),"")
A9: 工 事 名 称 | D9: =IF(作成依頼票!$F$29="","",作成依頼票!$F$29)
A11: 配 合 の 内 容 | F11: =IF(配合9頁!$L$11="","",IF($E$22="","",配合9頁!$L$11+1)) | I11: =IF($F11="","",IF(H22="","",F11+1)) | L11: =IF($I11="","",IF(K22="","",I11+1))
A12: 確認事項 | B12: ① | C12: 納入予定時期
B13: ② | C13: 本配合の適用期間 | E13: 通期 | H13: 通期 | K13: 通期 | O13: 通期 | P13: 標準期 | Q13: 夏期 | R13: 冬期
B14: ③ | C14: コンクリートの打込み箇所
B19: ④ | C19: 設計基準強度FC | O19: 耐久設計基準強度 [18] | P19: [24] | Q19: [30] | R19: [36]
B20: ⑤ | C20: 計画供用期間の級 | O20: 一般（短期） | P20: 標準 | Q20: 長期 | R20: 超長期
B21: ⑥ | C21: 構造体強度補正値Ｓ | O21: 3 | P21: 6
A22: 呼び方 | B22: コンクリートの種類 | O22: 普通 | P22: 舗装 | Q22: 軽量 | R22: 高強度 | S22: MCON (単独) | T22: MCON (共同) | U22: 1 DAY PAVE | V22: モルタル | W22: セメントミルク | X22: －
B23: 呼び強度1) | O23: 18 | P23: 21 | Q23: 24 | R23: 27 | S23: 30 | T23: 33 | U23: 36 | V23: 39 | W23: 40 | X23: 42 | Y23: 45 | Z23: 曲4.5 | AA23: -
B24: スランプ又はスランプフロー（cm) | O24: 3 | P24: 5 | Q24: 8 | R24: 10 | S24: 12 | T24: 15 | U24: 18 | V24: 21 | W24: 23 | X24: 40 | Y24: 45 | Z24: 50 | AA24: 55 | AB24: 60 | AC24: 2.5 | AD24: 6.5
B25: 粗骨材の最大寸法(mm) | O25: 15 (豆砂利) | P25: 15 | Q25: 20 | R25: 40 | S25: 軽量15
B26: セメントの種類 | O26: N | P26: BB | Q26: H | R26: L | S26: M
B27: 化学混和剤の種類 | O27: AE減水剤(標準･遅延) | P27: 高性能AE(標準･遅延) | Q27: AE減水剤(標準形指定) | R27: 高性能AE(標準形指定) | S27: AE減水剤(遅延形指定) | T27: 高性能AE(遅延形指定) | U27: AE減水剤(収縮低減) | V27: 高性能AE(収縮低減)
A28: 協議・指定事項 | B28: 単位容積質量（軽量コンのみ） | G28: =IF($E28<>"","t/㎥","") | J28: =IF($H28<>"","t/㎥","") | M28: =IF($K28<>"","t/㎥","") | O28: 1.95 | P28: 1.85 | Q28: 1.75 | R28: 1.65
B29: 流動化後のスランプ増大量 | O29: 8→10 ㎝ | P29: 8→12 ㎝ | Q29: 10→12 ㎝ | R29: 10→15 ㎝ | S29: 12→15 ㎝ | T29: 12→18 ㎝ | U29: 15→18 ㎝ | V29: 15→21 ㎝ | W29: 18→21 ㎝ | X29: 18→23 ㎝ | Y29: 21→23 ㎝
B30: 混和材料 ･膨張材 ･フライアッシュ ･防水材 など | D30: 種類 | O30: 膨張材外割 | P30: 膨張材内割 | Q30: フライアッシュ外割 | R30: フライアッシュ内割 | S30: 高炉スラグ微粉末外割 | T30: 高炉スラグ微粉末内割 | U30: シリカフューム外割 | V30: シリカフューム内割 | W30: 石粉外割 | X30: 石粉内割 | Y30: 防水材内割 | Z30: 防水材外割 | AA30: 防せい剤
D31: 品名 | O31: ﾊｲﾊﾟｰｴｸｽﾊﾟﾝ-K | P31: ﾊｲﾊﾟｰｴｸｽﾊﾟﾝ-M | Q31: エクスパン | R31: パワーCSA-S | S31: パワーCSA-R | T31: CSA | U31: ｽｰﾊﾟｰｻｸｽ-S | V31: ｽｰﾊﾟｰｻｸｽ-R | W31: ベストン | X31: 太平洋NN-P | Y31: 関電ﾌﾗｲｱｯｼｭ
D32: 使用量 | G32: kg/㎥ | J32: kg/㎥ | M32: kg/㎥ | O32: kg/㎥ | P32: ％
D33: 種類 | O33: C×
D34: 品名
D35: 使用量 | E35: C× | G35: ％ | H35: C× | J35: ％ | K35: C× | M35: ％
G36: =IF(E36<>"",IF($B36=$O$36,"日",IF($B36=$O$38,"kg/㎥",IF($B36=$O$39,"kg/㎥",IF($B36=$O$37,"％",IF($B36=$O$40,"％",""))))),"") | J36: =IF(H36<>"",IF($B36=$O$36,"日",IF($B36=$O$38,"kg/㎥",IF($B36=$O$39,"kg/㎥",IF($B36=$O$37,"％",IF($B36=$O$40,"％",""))))),"") | M36: =IF(K36<>"",IF($B36=$O$36,"日",IF($B36=$O$38,"kg/㎥",IF($B36=$O$39,"kg/㎥",IF($B36=$O$37,"％",IF($B36=$O$40,"％",""))))),"") | O36: 呼び強度を保証する材齢 | P36: 日
G37: =IF(E37<>"",IF($B37=$O$36,"日",IF($B37=$O$38,"kg/㎥",IF($B37=$O$39,"kg/㎥",IF($B37=$O$37,"％",IF($B37=$O$40,"％",""))))),"") | J37: =IF(H37<>"",IF($B37=$O$36,"日",IF($B37=$O$38,"kg/㎥",IF($B37=$O$39,"kg/㎥",IF($B37=$O$37,"％",IF($B37=$O$40,"％",""))))),"") | M37: =IF(K37<>"",IF($B37=$O$36,"日",IF($B37=$O$38,"kg/㎥",IF($B37=$O$39,"kg/㎥",IF($B37=$O$37,"％",IF($B37=$O$40,"％",""))))),"") | O37: 水セメント比の目標値の上限 2) | P37: kg/㎥
G38: =IF(E38<>"",IF($B38=$O$36,"日",IF($B38=$O$38,"kg/㎥",IF($B38=$O$39,"kg/㎥",IF($B38=$O$37,"％",IF($B38=$O$40,"％",""))))),"") | J38: =IF(H38<>"",IF($B38=$O$36,"日",IF($B38=$O$38,"kg/㎥",IF($B38=$O$39,"kg/㎥",IF($B38=$O$37,"％",IF($B38=$O$40,"％",""))))),"") | M38: =IF(K38<>"",IF($B38=$O$36,"日",IF($B38=$O$38,"kg/㎥",IF($B38=$O$39,"kg/㎥",IF($B38=$O$37,"％",IF($B38=$O$40,"％",""))))),"") | O38: 単位水量の目標値の上限 2) | P38: kg
G39: =IF(E39<>"",IF($B39=$O$36,"日",IF($B39=$O$38,"kg/㎥",IF($B39=$O$39,"kg/㎥",IF($B39=$O$37,"％",IF($B39=$O$40,"％",""))))),"") | J39: =IF(H39<>"",IF($B39=$O$36,"日",IF($B39=$O$38,"kg/㎥",IF($B39=$O$39,"kg/㎥",IF($B39=$O$37,"％",IF($B39=$O$40,"％",""))))),"") | M39: =IF(K39<>"",IF($B39=$O$36,"日",IF($B39=$O$38,"kg/㎥",IF($B39=$O$39,"kg/㎥",IF($B39=$O$37,"％",IF($B39=$O$40,"％",""))))),"") | O39: 単位セメント量の最小値 | P39: ㎝
O40: 指定空気量 | P40: ％
O42: 環境マークの表示 | Q42: 新規契約から可 | R42: 現在納入から可 | T42: 不要
A43: 検 査 | O43: 試し練り | P43: 有
O44: 単位水量検査 | P44: 無
A46: 備 考
A50: 1）ＭＣＯＮの呼び強度欄への記入方法（共同認定はW/C、単独認定は「-」とし設計基準強度欄を記入）
A51: 2）配合設計で計画した目標値

Sheet ※注意事項
A1: № | B1: 「レディーミクストコンクリート配合計画書作成依頼書」 作成時の留意事項
A2: 1 | C2: 「レディーミクストコンクリート配合計画書作成依頼書」は、「作成依頼票」と「配合内容」が１セットです。
A3: 2 | C3: 「レディーミクストコンクリート配合計画書作成依頼書」は、FAX受信時に記載内容が不明瞭となり、誤認の危険がありますので、手書きはせず、原則として、所定のEXCELファイルに入力し作成・印刷してください。
A4: 3 | C4: 提出期限まで余裕をもってご依頼ください。(できれば、配合計画書提出まで１週間程度を確保願います) なお、提出期限の記載が無い場合等は「作成次第提出」としますので、ご承知おきください。 | Y4: 新規
A5: 4 | C5: 担当者名・連絡先電話番号は必ず記載してください。
A6: 5 | C6: 配合計画書の提出方法が「メール添付(PDF)」の場合は、メールアドレス欄に記入して下さい。
A7: 6 | C7: 官需物件の場合は、「作成依頼票」に監督官庁名を必ず記入して下さい。 | Y7: 再発行
A8: 7 | C8: 「作成依頼票」に現場責任者名を記入願います。
A9: 8 | C9: 「作成依頼票」に工事名称・現場所在地を正確に記入願います。
A10: 9 | C10: 現場地図や特記仕様書などの資料をクラウドに登録した場合は、備考の所定欄にチェックを入れてください。
A11: 10 | C11: 「配合内容」は、3配合分が１シートです。 １つの配合欄への複数配合の記入を禁止します。
A12: 11 | C12: 「配合内容」は1ファイルで10シート(30配合)迄、記載可能です。 これを超える場合は、2ファイルに分けて作成してください。
A13: 12 | C13: このEXCELにおいて、配合No.は、最初の配合だけ番号入力です。 以降は「コンクリートの種類」を選択すると、自動的に連番で表示されますが、直接入力も出来ます。 また、シート番号は自動的に表示されますので入力不要です。
A14: 13 | B14: ② | C14: 「本配合の適用期間」は、ＡＥ減水剤及び高性能ＡＥ減水剤配合は「通期」を選択する。 但し、ＭＣＯＮの場合は納入時期を考慮して選択する。 納入予定時期と混同しない。
A15: 14 | B15: ④ | C15: ＭＣＯＮ (単独)の場合は、設計基準強度を必ず記入し、呼び強度欄は「－」を記入する。 また、「生コン工場単独認定 ＭＣＯＮ配合協議依頼書」も必ず送付願います。
A16: 15 | C16: ＭＣＯＮ (共同)の場合は、呼び強度欄に水セメント比を記入する。
A17: 16 | B17: ⑤ | C17: 計画供用期間の級が、「長期」・「超長期」等のため、原水指定が必要な場合は、配合計画書作成依頼書提出時に、前記要件が確認できるように、特記等の写しを添付すること。 また、工場が配合計画書提出後に、同様の事由により、原水指定が必要となった場合には、代表工場に特記等の写しを提出すること。
A18: 17 | B18: ⑤⑥ | C18: 確認事項は建築仕様の工事のみ記入すること。 また、ＭＣＯＮ・高流動コンクリート・鋼管充填コンクリート(CFT)の場合は記入不要です。
A19: 18 | B19: ⑥ | C19: ＪＡＳＳ５-２００９仕様の場合、構造体補正値Ｓは設計者の指定値を記入する。
A20: 19 | B20: ① ② | C20: 化学混和剤は、納入予定期間に関わらず、標準形と遅延形の併記を基本とします。 なお、膨張材水和熱抑制型使用時は、標準形のみとします。
A21: 20 | C21: 化学混和剤の銘柄指定はできません。
A22: 21 | C22: 収縮低減タイプの化学混和剤を指定された場合でも、乾燥収縮率を保証するものではありません。 また、ＡＥ減水剤（収縮低減タイプ）は、現行ではＪＩＳ非認証品(JIS外対応)となります。 なお、納入書の備考欄に記載を要請される場合は、銘柄の記入で対応します。
A23: 22 | C23: 「混和材料の種類」では、セメントの「内割」、又は「外割」の区分も含めて選択する。 混和材料を結合材として取扱う場合は、W/B、取扱わない場合は、W/Cを表記とします。 また、W/Cの上限指定があり、W/Bでないと満足しない場合は、W/CのW/Bへの読替え可を備考欄に記載願います。
A24: 23 | C24: 流動化コンクリートのスランプ増大値は最大６ｃｍとし、記入例は「８→１２」とする。 但し、ベースコンクリートは、原則としてＡＥ減水剤配合とします。
A25: 24 | B25: ① ② | C25: 協議・指定事項の「指定空気量」は、AE減水剤配合の普通・舗装・高強度コンで4.5％、軽量コンで5.0％を標準の値とし、これら以外で、特殊な値を指定する時のみ記入する。（標準値±0.5％を指定可とするが、標準の値以外は、JISを表示しない） 高性能AE減水剤配合も4.5％（軽量コンは5.0％）を標準の値とし、2.0～5.0％（軽量コンは、3.0～5.5％）の範囲で、0.5％刻みで指定可とするが、標準の値以外はJISを表示しない。
A26: 25 | C26: 協議・指定事項欄に「呼び強度を保証する材齢」の指定がない場合は、原則として強度試験における供試体材齢の２８日（早強は７日）とする。 その他の材齢を指定する場合は記入する。
A27: 26 | C27: 軽量コンクリートは、協議・指定事項欄の「単位容積質量」を必ず記載する。
A28: 27 | C28: 協議・指定事項欄にコンクリートの最高温度又は最低温度の記入は受付ません。
A29: 28 | C29: 協議・指定事項欄の環境マークを表示する場合は、表示を開始する時期を記入する。
A30: 29 | C30: 軽量コンクリートの場合、自主管理での単位水量測定結果による製品の返品はお受けできません。
A31: 30 | C31: 呼び強度３６を超える配合の場合、ＪＩＳＡ５３０８-２００９に基づく「水の区分」は協議事項とします。 なお、建築工事の場合で長期・超長期配合及びＭＣＯＮ (共同)・高流動コンクリート・鋼管充填コンクリートでは、原則として原水を使用する。
A32: *1 | C32: 主な文字入力のセルは、日本語入力が自動でON状態になります。
A33: *2 | C33: 「レディーミクストコンクリート配合計画書作成依頼書」の印刷時は、各ワークシートを個別に印刷するか、又は、「印刷プレビュー」を行い、「設定」で「ブック全体を印刷」を選択し、「ページ指定」で「開始 1、終了 XX」と設定すれば、まとめて印刷できます。 「XX」は、「作成依頼票」の右肩に表示されている「No.1/XX」で確認できます。
A34: *3 | C34: 「レディーミクストコンクリート配合計画書作成依頼書」を作成後、EXCELからPDF形式に直接変換して保存する場合は、ファイルの保存時に、「ファイル」の「名前を付けて保存」を選択し、「ファイルの種類」で「PDF」を指定して、さらに、「オプション」を押して、オプションメニューを表示して「ブック全体」を選択し、「ページ指定」で「開始 1」、「終了 XX」として、保存することでpdf変換・保存可能です。 「XX」は、「作成依頼票」の右肩に表示されている「No.1/XX」で確認できます。
